Workbook

Sheet Fiche
A1: Fiche technique
A2: Nom | B2: BLANC-MANGER AUX AMANDES
A3: Code | B3: GRO_CDC_246
A4: Classe | B4: Pâtisserie collectivité (GRO.DESSERTS)
A5: Statut | B5: publie
A6: Verrouillée | B6: Non
A7: Source bibliographique
A8: Provenance
A10: Quantité de référence | B10: 100 pc
A11: Coût de revient H.T. (qt de référence) | B11: 48.612352
A12: Coût unitaire H.T. | B12: 0.48612352
A14: Quantité demandée pour cet export | B14: 100 pc
A15: Coût de revient total H.T. pour cette quantité | B15: 48.612352
A17: Export généré le | B17: 28/09/2026 14:50
B18: CUIS.web — Portage du CUIS Clipper de 1992 par Palika & Bernard Vandendaele (créateur du moteur récursif d'origine)

Sheet Besoins
A1: Besoins matière
A2: Multiplicateur souhaité | B2: 1
A3: Quantité de référence | B3: 100 | C3: pc
A4: Quantité obtenue | B4: =$B$2*B3 -> 100 | C4: =C3 -> pc
A6: Code | B6: Matière première | C6: Classe | D6: Base (×1, modifiable) | E6: Quantité | F6: Unité | G6: Coût H.T.
A7: EAU | B7: Eau (robinet - moy. France 2026) | C7: Matières premières | D7: 0.84 | E7: =D7*$B$2 -> 0.84 | F7: lt | G7: =E7*0.0043 -> 0.003612
A8: GELATINE | B8: Gélatine feuilles (200 bloom) | C8: Concentrés et purées cuisines | D8: 0.12 | E8: =D8*$B$2 -> 0.12 | F8: kg | G8: =E8*24 -> 2.88
A9: PUREE-FRUIT-FRA | B9: Purée de fraises (surgelée PAE) | C9: Conserves et compotes de fruits | D9: 0.84 | E9: =D9*$B$2 -> 0.84 | F9: kg | G9: =E9*5.8 -> 4.872
A10: AROME-AM-AMERE | B10: Arôme amande amère (liquide, dosage 1-2g/kg) | C10: Épices en poudre et graines | D10: 0.005 | E10: =D10*$B$2 -> 0.005 | F10: lt | G10: =E10*18 -> 0.09
A11: POUDRE-AMANDE | B11: Poudre d'amande blanchie extra-fine | C11: Oléagineux et noix | D11: 1.2 | E11: =D11*$B$2 -> 1.2 | F11: kg | G11: =E11*15 -> 18
A12: RNM57224469 | B12: LAIT UHT demi écrémé France outre 10 litres | C12: Produits laitiers et œufs | D12: 6 | E12: =D12*$B$2 -> 6 | F12: lt | G12: =E12*1.67 -> 10.02
A13: CRE-LIQUIDE-35 | B13: Crème liquide entière 35% MG UHT | C13: Crèmes fraîches et laitières | D13: 3.5 | E13: =D13*$B$2 -> 3.5 | F13: lt | G13: =E13*2.85 -> 9.975
A14: RNM1950160 | B14: MENTHE France botte | C14: Légumes | D14: 1 | E14: =D14*$B$2 -> 1 | F14: bte | G14: =E14*0.4 -> 0.4
A15: SIROP-GLUCOSE | B15: Sirop de glucose | C15: Sucres et édulcorants | D15: 0.168 | E15: =D15*$B$2 -> 0.168 | F15: kg | G15: =E15*1.8 -> 0.3024
A16: SUC-BLANC | B16: Sucre blanc cristal sac 25 kg | C16: Sucres et édulcorants | D16: 0.987 | E16: =D16*$B$2 -> 0.987 | F16: kg | G16: =E16*0.82 -> 0.80934
A17: SUC-GLACE | B17: Sucre glace tamisé | C17: Sucres et édulcorants | D17: 1.2 | E17: =D17*$B$2 -> 1.2 | F17: kg | G17: =E17*1.05 -> 1.26
F18: Total | G18: =SUM(G7:G17) -> 0

Sheet Composition
A1: Niveau | B1: Composant | C1: Type | D1: Quantité (pour 100 pc) | E1: Unité | F1: Classe
A2: 0 | B2: BLANC-MANGER AUX AMANDES | C2: recette | D2: 100 | E2: pc | F2: Pâtisserie collectivité
A3: 1 | B3: ↳ LAIT UHT demi écrémé France outre 10 litres | C3: matiere | D3: 6 | E3: lt | F3: Produits laitiers et œufs
A4: 1 | B4: ↳ Poudre d'amande blanchie extra-fine | C4: matiere | D4: 1.2 | E4: kg | F4: Oléagineux et noix
A5: 1 | B5: ↳ Sucre glace tamisé | C5: matiere | D5: 1.2 | E5: kg | F5: Sucres et édulcorants
A6: 1 | B6: ↳ GELATINE FEUILLE (P) | C6: recette | D6: 60 | E6: pc | F6: Conversions diverses
A7: 2 | B7: ↳ Gélatine feuilles (200 bloom) | C7: matiere | D7: 0.12 | E7: kg | F7: Concentrés et purées cuisines
A8: 1 | B8: ↳ Arôme amande amère (liquide, dosage 1-2g/kg) | C8: matiere | D8: 0.005 | E8: lt | F8: Épices en poudre et graines
A9: 1 | B9: ↳ Crème liquide entière 35% MG UHT | C9: matiere | D9: 3.5 | E9: lt | F9: Crèmes fraîches et laitières
A10: 1 | B10: ↳ COULIS DE FRUITS | C10: recette | D10: 42 | E10: pc | F10: Préparations de base collectivité
A11: 2 | B11: ↳ Purée de fraises (surgelée PAE) | C11: matiere | D11: 0.84 | E11: kg | F11: Conserves et compotes de fruits
A12: 2 | B12: ↳ Sucre blanc cristal sac 25 kg | C12: matiere | D12: 0.987 | E12: kg | F12: Sucres et édulcorants
A13: 2 | B13: ↳ Sirop de glucose | C13: matiere | D13: 0.168 | E13: kg | F13: Sucres et édulcorants
... A15: 1 | B15: ↳ MENTHE France botte | C15: matiere | D15: 1 | E15: bte | F15: Légumes

Sheet Procedure
A1: Recette | B1: # | C1: Verbe | D1: Étape | E1: Précision technique | F1: Durée
A2: BLANC-MANGER AUX AMANDES | B2: 1 | D2: Mise en place du poste de travail — Vérifier les D.L.C., peser les denrées, sélectionner le matériel nécessaire. Laver et désinfecter le matériel et le poste de travail en suivant les protocoles.
A3: BLANC-MANGER AUX AMANDES | B3: 2 | D3: Préparations préliminaires — Disposer 100 coupelles dans 5 bacs GN 1/1 H 35. Faire tremper la gélatine dans l'eau froide. Mettre la crème fleurette dans la cuve du batteur et la réserver au froid.
A4: BLANC-MANGER AUX AMANDES | B4: 3 | D4: Confectionner le blanc-manger — Chauffer le lait avec la poudre d'amandes et laisser frémir quelques minutes pour infuser. Filtrer au chinois en foulant les amandes. Égoutter et presser la gélatine et la dissoudre au fouet dans le lait (ou ajouter l'agar-agar directement). Ajouter le sucre glace et le dissoudre (après chauffage, le lait ne se colore pas). Ajouter quelques gouttes d'extrait d'amandes amères. Refroidir jusqu'à une consistance encore souple. Pendant ce temps, monter la crème en deuxième vitesse, puis la serrer 15 à 20 secondes en troisième. Amollir le lait gélifié avec un peu de crème fouettée, puis incorporer le reste à l'écumoire.
A5: BLANC-MANGER AUX AMANDES | B5: 4 | D5: Garnir les coupelles — À la petite louche à bec, remplir les coupelles. Refroidir suivant la procédure ; stocker à + 3 °C.
A6: BLANC-MANGER AUX AMANDES | B6: 5 | D6: Servir — Servir avec un coulis de fruits rouges (Fiche 227) ; décorer d'une feuille de menthe.
A7: BLANC-MANGER AUX AMANDES | B7: 6 | D7: Suggestion — Cuire un sirop avec 500 g de sucre et 0,5 L d'eau, y verser 3 kg de fruits rouges, cerises ou framboises surgelés, remuer délicatement, débarrasser en bac ; à l'envoi, une cuillère de fruits chauds sur le blanc-manger froid et une feuille de menthe.
A8: COULIS DE FRUITS | B8: 1 | D8: Mise en place du poste de travail — Vérifier les D.L.U.O., peser les denrées, sélectionner le matériel. Désinfecter le matériel et le poste de travail suivant les protocoles.
A9: COULIS DE FRUITS | B9: 2 | D9: Préparations préliminaires — Laver et désinfecter les fruits (3 bains de rinçage dont le premier additionné de quelques gouttes d'eau de javel) suivant la procédure.
A10: COULIS DE FRUITS | B10: 3 | D10: Confection du sirop à 30° — Dans une russe, mettre 2 litres d'eau, le sucre semoule et le glucose. Remuer le sucre avec une spatule pour le dissoudre avant de le mettre en cuisson. Porter à ébullition quelques minutes.
A11: COULIS DE FRUITS | B11: 4 | D11: Confection de la pulpe de fruit — Mixer la pulpe du fruit. Mélanger le sirop et la pulpe de fruit. Laisser infuser. Passer au chinois. Refroidir suivant la procédure. Filmer, indiquer la traçabilité des produits et la date de fabrication. Réserver au froid.
A12: COULIS DE FRUITS | B12: 5 | D12: Suggestions — Le coulis peut être servi froid ou chaud. Il s'élabore avec une grande variété de fruits (abricots, pêches, poires, fraises, melons et aussi avec des fruits surgelés).

Sheet Carte imprimable
A1: Fiche technique — BLANC-MANGER AUX AMANDES
A2: ="GRO_CDC_246 · GRO.DESSERTS · référence : "&Besoins!B3&" "&Besoins!C3&" · multiplicateur réglable sur la feuille ""Besoins""" -> GRO_CDC_246 · GRO.DESSERTS · référence : 100 pc · multiplicateur réglable sur la feuille
A4: BLANC-MANGER AUX AMANDES GRO_CDC_246
A5: 1. | B5: =Procedure!D2 -> Mise en place du poste de travail — Vérifier les D.L.C., peser les denrées, sélectionner le matériel nécessaire. Laver et désinfecter le matériel et le poste de travail en suivant les protocoles.
A6: 2. | B6: =Procedure!D3 -> Préparations préliminaires — Disposer 100 coupelles dans 5 bacs GN 1/1 H 35. Faire tremper la gélatine dans l'eau froide. Mettre la crème fleurette dans la cuve du batteur et la réserver au froid.
B7: GELATINE FEUILLE (P) (conv.) | C7: ='Besoins'!$B$2*60 -> 60 | D7: pc
B8: =Besoins!B13 -> Crème liquide entière 35% MG UHT | C8: =Besoins!E13 -> 3.5 | D8: =Besoins!F13 -> lt
A9: 3. | B9: =Procedure!D4 -> Confectionner le blanc-manger — Chauffer le lait avec la poudre d'amandes et laisser frémir quelques minutes pour infuser. Filtrer au chinois en foulant les amandes. Égoutter et presser la gélatine et la dissoudre au fouet dans le lait (ou ajouter l'agar-agar directement). Ajouter le sucre glace et le dissoudre (après chauffage, le lait ne se colore pas). Ajouter quelques gouttes d'extrait d'amandes amères. Refroidir jusqu'à une consistance encore souple. Pendant ce temps, monter la crème en deuxième vitesse, puis la serrer 15 à 20 secondes en troisième. Amollir le lait gélifié avec un peu de crème fouettée, puis incorporer le reste à l'écumoire.
B10: =Besoins!B12 -> LAIT UHT demi écrémé France outre 10 litres | C10: =Besoins!E12 -> 6 | D10: =Besoins!F12 -> lt
B11: =Besoins!B11 -> Poudre d'amande blanchie extra-fine | C11: =Besoins!E11 -> 1.2 | D11: =Besoins!F11 -> kg
B12: =Besoins!B17 -> Sucre glace tamisé | C12: =Besoins!E17 -> 1.2 | D12: =Besoins!F17 -> kg
B13: =Besoins!B10 -> Arôme amande amère (liquide, dosage 1-2g/kg) | C13: =Besoins!E10 -> 0.005 | D13: =Besoins!F10 -> lt
A14: 4. | B14: =Procedure!D5 -> Garnir les coupelles — À la petite louche à bec, remplir les coupelles. Refroidir suivant la procédure ; stocker à + 3 °C.
A15: 5. | B15: =Procedure!D6 -> Servir — Servir avec un coulis de fruits rouges (Fiche 227) ; décorer d'une feuille de menthe.
B16: COULIS DE FRUITS | C16: ='Besoins'!$B$2*42 -> 42 | D16: pc
B17: =Besoins!B14 -> MENTHE France botte | C17: =Besoins!E14 -> 1 | D17: =Besoins!F14 -> bte
A18: 6. | B18: =Procedure!D7 -> Suggestion — Cuire un sirop avec 500 g de sucre et 0,5 L d'eau, y verser 3 kg de fruits rouges, cerises ou framboises surgelés, remuer délicatement, débarrasser en bac ; à l'envoi, une cuillère de fruits chauds sur le blanc-manger froid et une feuille de menthe.
A20: ↳ COULIS DE FRUITS GRO_CDC_227
A21: 1. | B21: =Procedure!D8 -> Mise en place du poste de travail — Vérifier les D.L.U.O., peser les denrées, sélectionner le matériel. Désinfecter le matériel et le poste de travail suivant les protocoles.
A22: 2. | B22: =Procedure!D9 -> Préparations préliminaires — Laver et désinfecter les fruits (3 bains de rinçage dont le premier additionné de quelques gouttes d'eau de javel) suivant la procédure.
B23: =Besoins!B9 -> Purée de fraises (surgelée PAE) | C23: =Besoins!E9 -> 0.84 | D23: =Besoins!F9 -> kg
A24: 3. | B24: =Procedure!D10 -> Confection du sirop à 30° — Dans une russe, mettre 2 litres d'eau, le sucre semoule et le glucose. Remuer le sucre avec une spatule pour le dissoudre avant de le mettre en cuisson. Porter à ébullition quelques minutes.
B25: =Besoins!B16 -> Sucre blanc cristal sac 25 kg | C25: =Besoins!E16 -> 0.987 | D25: =Besoins!F16 -> kg
B26: =Besoins!B15 -> Sirop de glucose | C26: =Besoins!E15 -> 0.168 | D26: =Besoins!F15 -> kg
B27: =Besoins!B7 -> Eau (robinet - moy. France 2026) | C27: =Besoins!E7 -> 0.84 | D27: =Besoins!F7 -> lt
A28: 4. | B28: =Procedure!D11 -> Confection de la pulpe de fruit — Mixer la pulpe du fruit. Mélanger le sirop et la pulpe de fruit. Laisser infuser. Passer au chinois. Refroidir suivant la procédure. Filmer, indiquer la traçabilité des produits et la date de fabrication. Réserver au froid.
B29: =Besoins!B9 -> Purée de fraises (surgelée PAE) | C29: =Besoins!E9 -> 0.84 | D29: =Besoins!F9 -> kg
A30: 5. | B30: =Procedure!D12 -> Suggestions — Le coulis peut être servi froid ou chaud. Il s'élabore avec une grande variété de fruits (abricots, pêches, poires, fraises, melons et aussi avec des fruits surgelés).
A32: CUIS.web — Portage du CUIS Clipper de 1992 par Palika & Bernard Vandendaele (créateur du moteur récursif d'origine)
