Workbook

Sheet Fiche
A1: Fiche technique
A2: Nom | B2: SAUCE VERTE
A3: Code | B3: GRO_CDC_203G
A4: Classe | B4: Sauces collectivité (GRO.SAUCES)
A5: Statut | B5: publie
A6: Verrouillée | B6: Oui — Corpus CDC — scission de GRO_CDC_203, Chapitre 11. Réinjecté Ch.14.
A7: Source bibliographique | B7: La Cuisine de Collectivité (BPI.CDC)
A8: Provenance
A10: Quantité de référence | B10: 100 pc
A11: Coût de revient H.T. (qt de référence) | B11: 19.362723
A12: Coût unitaire H.T. | B12: 0.19362723
A14: Quantité demandée pour cet export | B14: 100 pc
A15: Coût de revient total H.T. pour cette quantité | B15: 19.362723
A17: Export généré le | B17: 31/10/2026 07:00
B18: CUIS.web — Portage du CUIS Clipper de 1992 par Palika & Bernard Vandendaele (créateur du moteur récursif d'origine)

Sheet Besoins
A1: Besoins matière
A2: Multiplicateur souhaité | B2: 1
A3: Quantité de référence | B3: 100 | C3: pc
A4: Quantité obtenue | B4: =$B$2*B3 -> 100 | C4: =C3 -> pc
A6: Code | B6: Matière première | C6: Classe | D6: Base (×1, modifiable) | E6: Quantité | F6: Unité | G6: Coût H.T.
A7: RNME101411 | B7: Moutarde de Dijon seau 5kg | C7: Sauces et ketchup | D7: 0.085135 | E7: =D7*$B$2 -> 0.085135 | F7: kg | G7: =E7*3.7100058889 -> 0.315851
A8: RNME101406 | B8: Vinaigre vin rouge 6° bouteille 1,5L | C8: Vinaigres et acides | D8: 0.189189 | E8: =D8*$B$2 -> 0.189189 | F8: u | G8: =E8*1.79000179 -> 0.338649
A9: EPI-PIMENT-CAYE | B9: Piment de Cayenne | C9: Épices en poudre et graines | D9: 0.000946 | E9: =D9*$B$2 -> 0.000946 | F9: kg | G9: =E9*9.799440032 -> 0.00927
A10: EPI-POIVRE-NOIR | B10: Poivre noir moulu | C10: Épices en poudre et graines | D10: 0.005676 | E10: =D10*$B$2 -> 0.005676 | F10: kg | G10: =E10*12.4992857551 -> 0.070946
A11: RNME101405 | B11: Huile de tournesol bidon 5L | C11: Huiles végétales | D11: 0.567568 | E11: =D11*$B$2 -> 0.567568 | F11: u | G11: =E11*20.3499844952 -> 11.55
A12: RNM0020160 | B12: CERFEUIL France botte | C12: Légumes | D12: 8.333333 | E12: =D12*$B$2 -> 8.333333 | F12: bte | G12: =E12*0.600000024 -> 5
A13: CRESSON-FRAIS | B13: Cresson frais | C13: Légumes | D13: 0.015 | E13: =D13*$B$2 -> 0.015 | F13: kg | G13: =E13*4.2 -> 0.063
A14: RNM0230123 | B14: ÉPINARD France cat.I | C14: Légumes | D14: 0.035 | E14: =D14*$B$2 -> 0.035 | F14: kg | G14: =E14*2.7 -> 0.0945
A15: 00000047 | B15: OEUF A3 (PRIX) | C15: Oeufs entiers | D15: 7.094595 | E15: =D15*$B$2 -> 7.094595 | F15: pc | G15: =E15*0.2699999846 -> 1.915541
A16: SEL-FIN | B16: Sel fin de cuisine | C16: Sels et condiments de base | D16: 0.014189 | E16: =D16*$B$2 -> 0.014189 | F16: kg | G16: =E16*0.3500046667 -> 0.004966
F17: Total | G17: =SUM(G7:G16) -> 0

Sheet Composition
A1: Niveau | B1: Composant | C1: Type | D1: Quantité (pour 100 pc) | E1: Unité | F1: Classe
A2: 0 | B2: SAUCE VERTE | C2: recette | D2: 100 | E2: pc | F2: Sauces collectivité
A3: 1 | B3: ↳ SAUCE MAYONNAISE | C3: recette | D3: 3.5 | E3: lt | F3: Sauces collectivité
A4: 2 | B4: ↳ HUILE TOURNESOL (L) | C4: recette | D4: 2.838 | E4: lt | F4: Conversions diverses
A5: 3 | B5: ↳ Huile de tournesol bidon 5L | C5: matiere | D5: 0.568 | E5: u | F5: Huiles végétales
A6: 2 | B6: ↳ VINAIGRE VIN ROUGE (L) | C6: recette | D6: 0.284 | E6: lt | F6: Conversions diverses
A7: 3 | B7: ↳ Vinaigre vin rouge 6° bouteille 1,5L | C7: matiere | D7: 0.189 | E7: u | F7: Vinaigres et acides
A8: 2 | B8: ↳ Sel fin de cuisine | C8: matiere | D8: 0.014 | E8: kg | F8: Sels et condiments de base
A9: 2 | B9: ↳ Poivre noir moulu | C9: matiere | D9: 0.006 | E9: kg | F9: Épices en poudre et graines
A10: 2 | B10: ↳ Piment de Cayenne | C10: matiere | D10: 0.001 | E10: kg | F10: Épices en poudre et graines
A11: 2 | B11: ↳ Moutarde de Dijon seau 5kg | C11: matiere | D11: 0.085 | E11: kg | F11: Sauces et ketchup
A12: 2 | B12: ↳ JAUNE D'OEUF (P) | C12: recette | D12: 14.189 | E12: pc | F12: Conversions oeufs et ovoproduits
A13: 3 | B13: ↳ JAUNE D'OEUF (ML) | C13: recette | D13: 0.27 | E13: lt | F13: Conversions oeufs et ovoproduits
... A19: 2 | B19: ↳ Cresson frais | C19: matiere | D19: 0.015 | E19: kg | F19: Légumes

Sheet Procedure
A1: Recette | B1: # | C1: Verbe | D1: Étape | E1: Précision technique | F1: Durée
A2: SAUCE VERTE | B2: 1 | D2: Hacher finement tous les aromates.
A3: SAUCE VERTE | B3: 2 | D3: Incorporer les aromates hachés à la mayonnaise de base.
A4: SAUCE VERTE | B4: 3 | D4: Rectifier la couleur avec quelques gouttes de colorant (facultatif — alternative : cresson et épinards blanchis).
A5: SAUCE MAYONNAISE | B5: 1 | D5: Dans la cuve du batteur, au fouet, mélanger la moutarde, le sel, le poivre, le poivre de Cayenne, les jaunes d'œufs pasteurisés et un quart du volume du vinaigre.
A6: SAUCE MAYONNAISE | B6: 2 | D6: En deuxième vitesse, incorporer l'huile en filet régulier.
A7: SAUCE MAYONNAISE | B7: 3 | D7: En fin de montage de la mayonnaise, ajouter le reste du vinaigre.
A8: SAUCE MAYONNAISE | B8: 4 | D8: En troisième vitesse, serrer la mayonnaise pendant 2 minutes.
A9: SAUCE MAYONNAISE | B9: 5 | D9: Vérifier l'assaisonnement et la consistance de la sauce.
A10: COLORANT VERT VÉGÉTAL (CHLOROPHYLLE) | B10: 1 | C10: ÉPLUCHER | D10: Mise en place — Peser et mesurer toutes les denrées, vérifier leur fraîcheur.
A11: COLORANT VERT VÉGÉTAL (CHLOROPHYLLE) | B11: 2 | C11: MIXER | D11: Éplucher, équeuter, trier et bien laver les feuilles vertes.
A12: COLORANT VERT VÉGÉTAL (CHLOROPHYLLE) | B12: 3 | D12: Les mixer très finement avec un peu d'eau pour libérer la chlorophylle, puis presser la purée dans une étamine pour en recueillir le jus vert.
A13: COLORANT VERT VÉGÉTAL (CHLOROPHYLLE) | B13: 4 | C13: CHAUFFER | D13: Chauffer ce jus tout doucement jusqu'à 70 °C, sans remuer : le vert se rassemble en surface et le liquide devient clair. | E13: 70°C — ne pas dépasser
A14: COLORANT VERT VÉGÉTAL (CHLOROPHYLLE) | B14: 5 | C14: ÉGOUTTER | D14: Recueillir délicatement le coagulat vert sur une étamine ou un linge propre et humide ; l'utiliser aussitôt ou le garder bien emballé, à l'abri de l'air, au réfrigérateur. | E14: +3°C max

Sheet Carte imprimable
A1: Fiche technique — SAUCE VERTE
A2: ="GRO_CDC_203G · GRO.SAUCES · référence : "&Besoins!B3&" "&Besoins!C3&" · multiplicateur réglable sur la feuille ""Besoins""" -> GRO_CDC_203G · GRO.SAUCES · référence : 100 pc · multiplicateur réglable sur la feuille
A4: SAUCE VERTE GRO_CDC_203G
A5: 1. | B5: =Procedure!D2 -> Hacher finement tous les aromates.
B6: CERFEUIL (KG) (conv.) | C6: ='Besoins'!$B$2*0.25 -> 0.25 | D6: kg
A7: 2. | B7: =Procedure!D3 -> Incorporer les aromates hachés à la mayonnaise de base.
B8: SAUCE MAYONNAISE | C8: ='Besoins'!$B$2*3.5 -> 3.5 | D8: lt
A9: 3. | B9: =Procedure!D4 -> Rectifier la couleur avec quelques gouttes de colorant (facultatif — alternative : cresson et épinards blanchis).
B10: COLORANT VERT VÉGÉTAL (CHLOROPHYLLE) | C10: ='Besoins'!$B$2*0.005 -> 0.005 | D10: kg
A12: ↳ SAUCE MAYONNAISE GRO_CDC_203
A13: 1. | B13: =Procedure!D5 -> Dans la cuve du batteur, au fouet, mélanger la moutarde, le sel, le poivre, le poivre de Cayenne, les jaunes d'œufs pasteurisés et un quart du volume du vinaigre.
B14: =Besoins!B16 -> Sel fin de cuisine | C14: =Besoins!E16 -> 0.014189 | D14: =Besoins!F16 -> kg
B15: =Besoins!B10 -> Poivre noir moulu | C15: =Besoins!E10 -> 0.005676 | D15: =Besoins!F10 -> kg
B16: =Besoins!B9 -> Piment de Cayenne | C16: =Besoins!E9 -> 0.000946 | D16: =Besoins!F9 -> kg
B17: =Besoins!B7 -> Moutarde de Dijon seau 5kg | C17: =Besoins!E7 -> 0.085135 | D17: =Besoins!F7 -> kg
B18: JAUNE D'OEUF (P) (conv.) | C18: ='Besoins'!$B$2*14.1891891892 -> 14.189189 | D18: pc
B19: VINAIGRE VIN ROUGE (L) (conv.) | C19: ='Besoins'!$B$2*0.2837837838 -> 0.283784 | D19: lt
A20: 2. | B20: =Procedure!D6 -> En deuxième vitesse, incorporer l'huile en filet régulier.
B21: HUILE TOURNESOL (L) (conv.) | C21: ='Besoins'!$B$2*2.8378378378 -> 2.837838 | D21: lt
A22: 3. | B22: =Procedure!D7 -> En fin de montage de la mayonnaise, ajouter le reste du vinaigre.
A23: 4. | B23: =Procedure!D8 -> En troisième vitesse, serrer la mayonnaise pendant 2 minutes.
A24: 5. | B24: =Procedure!D9 -> Vérifier l'assaisonnement et la consistance de la sauce.
A26: ↳ COLORANT VERT VÉGÉTAL (CHLOROPHYLLE) GRO_CDR_B315
A27: 1. | B27: ="[ÉPLUCHER] "&Procedure!D10 -> [ÉPLUCHER] Mise en place — Peser et mesurer toutes les denrées, vérifier leur fraîcheur.
A28: 2. | B28: ="[MIXER] "&Procedure!D11 -> [MIXER] Éplucher, équeuter, trier et bien laver les feuilles vertes.
B29: =Besoins!B14 -> ÉPINARD France cat.I | C29: =Besoins!E14 -> 0.035 | D29: =Besoins!F14 -> kg
B30: =Besoins!B13 -> Cresson frais | C30: =Besoins!E13 -> 0.015 | D30: =Besoins!F13 -> kg
A31: 3. | B31: =Procedure!D12 -> Les mixer très finement avec un peu d'eau pour libérer la chlorophylle, puis presser la purée dans une étamine pour en recueillir le jus vert.
A32: 4. | B32: ="[CHAUFFER] "&Procedure!D13 -> [CHAUFFER] Chauffer ce jus tout doucement jusqu'à 70 °C, sans remuer : le vert se rassemble en surface et le liquide devient clair.
B33: ="ℹ "&Procedure!E13 -> ℹ
A34: 5. | B34: ="[ÉGOUTTER] "&Procedure!D14 -> [ÉGOUTTER] Recueillir délicatement le coagulat vert sur une étamine ou un linge propre et humide ; l'utiliser aussitôt ou le garder bien emballé, à l'abri de l'air, au réfrigérateur.
B35: ="ℹ "&Procedure!E14 -> ℹ
A37: CUIS.web — Portage du CUIS Clipper de 1992 par Palika & Bernard Vandendaele (créateur du moteur récursif d'origine)
