Workbook

Sheet Fiche
A1: Fiche technique
A2: Nom | B2: Hot-dog / mauricettes (Ferrandi)
A3: Code | B3: FER-HOTDOG
A4: Classe | B4: Snacking boulanger (pizza, fougasse) (BOU.SNACKING)
A5: Statut | B5: publie
A6: Verrouillée | B6: Oui — FER.BOUL -- 91 recettes/bases, composants_lies complets, imbrication FT chapitre 9, valide Palika 22/07/2026
A7: Source bibliographique | B7: Boulangerie Viennoiserie — Recettes et techniques d'une école d'excellence (FER.BOUL)
A8: Provenance
A10: Quantité de référence | B10: 0,94 kg
A11: Coût de revient H.T. (qt de référence) | B11: 6.7640601
A12: Coût unitaire H.T. | B12: 7.1958086
A14: Quantité demandée pour cet export | B14: 0,94 kg
A15: Coût de revient total H.T. pour cette quantité | B15: 6.7640601
A17: Export généré le | B17: 30/10/2026 16:43
B18: CUIS.web — Portage du CUIS Clipper de 1992 par Palika & Bernard Vandendaele (créateur du moteur récursif d'origine)

Sheet Besoins
A1: Besoins matière
A2: Multiplicateur souhaité | B2: 1
A3: Quantité de référence | B3: 0.94 | C3: kg
A4: Quantité obtenue | B4: =$B$2*B3 -> 0.94 | C4: =C3 -> kg
A6: Code | B6: Matière première | C6: Classe | D6: Base (×1, modifiable) | E6: Quantité | F6: Unité | G6: Coût H.T.
A7: EAU | B7: Eau (robinet - moy. France 2026) | C7: Matières premières | D7: 0.075789 | E7: =D7*$B$2 -> 0.075789 | F7: lt | G7: =E7*0.0043000269 -> 0.000326
A8: KETCHUP | B8: Ketchup — à réactualiser | C8: Épices en poudre et graines | D8: 0.05 | E8: =D8*$B$2 -> 0.05 | F8: kg | G8: =E8*3 -> 0.15
A9: OIGNONS-FRITS | B9: Oignons frits croustillants — à réactualiser | C9: Épices en poudre et graines | D9: 0.06 | E9: =D9*$B$2 -> 0.06 | F9: kg | G9: =E9*6 -> 0.36
A10: SAUCISSE-FRANCF | B10: Saucisses de Francfort — à réactualiser | C10: Épices en poudre et graines | D10: 0.56 | E10: =D10*$B$2 -> 0.56 | F10: kg | G10: =E10*8.5 -> 4.76
A11: FAR-SEIGLE | B11: Farine de seigle T130 | C11: Farines alternatives & spéciales | D11: 0.013421 | E11: =D11*$B$2 -> 0.013421 | F11: kg | G11: =E11*1.2000047059 -> 0.016105
A12: FAR-TRAD | B12: Farine de tradition française T65 | C12: Farines de blé | D12: 0.56 | E12: =D12*$B$2 -> 0.56 | F12: kg | G12: =E12*0.82 -> 0.4592
A13: HUI-TOURNESOL | B13: Huile de tournesol raffinée vrac | C13: Huiles végétales | D13: 0.02 | E13: =D13*$B$2 -> 0.02 | F13: lt | G13: =E13*1.05 -> 0.021
A14: BEU-DOUX | B14: Beurre doux 82% MG plaquette | C14: Beurres et margarines | D14: 0.08 | E14: =D14*$B$2 -> 0.08 | F14: kg | G14: =E14*5.2 -> 0.416
A15: LAIT-ENT-UHT | B15: Lait entier UHT 3,5% MG brique 1L | C15: Laits et laits en poudre | D15: 0.25 | E15: =D15*$B$2 -> 0.25 | F15: lt | G15: =E15*1.05 -> 0.2625
A16: BICARB-SODA | B16: Bicarbonate de sodium alimentaire | C16: Levures et agents levants | D16: 0.055 | E16: =D16*$B$2 -> 0.055 | F16: kg | G16: =E16*1.8 -> 0.099
A17: LEV-FRAICHE | B17: Levure fraîche de boulanger | C17: Levures et agents levants | D17: 0.02 | E17: =D17*$B$2 -> 0.02 | F17: kg | G17: =E17*2.2 -> 0.044
A18: MOUTARDE-DIJON | B18: Moutarde de Dijon forte | C18: Sels et condiments de base | D18: 0.05 | E18: =D18*$B$2 -> 0.05 | F18: kg | G18: =E18*3.2 -> 0.16
A19: SEL-FIN | B19: Sel fin de cuisine | C19: Sels et condiments de base | D19: 0.009 | E19: =D19*$B$2 -> 0.009 | F19: kg | G19: =E19*0.35 -> 0.00315
A20: MIEL-FLORES | B20: Miel toutes fleurs vrac | C20: Sucres et édulcorants | D20: 0.000789 | E20: =D20*$B$2 -> 0.000789 | F20: kg | G20: =E20*5.8034820893 -> 0.004579
A21: SUC-BLANC | B21: Sucre blanc cristal sac 25 kg | C21: Sucres et édulcorants | D21: 0.01 | E21: =D21*$B$2 -> 0.01 | F21: kg | G21: =E21*0.82 -> 0.0082
F22: Total | G22: =SUM(G7:G21) -> 0

Sheet Composition
A1: Niveau | B1: Composant | C1: Type | D1: Quantité (pour 0,94 kg) | E1: Unité | F1: Classe
A2: 0 | B2: Hot-dog / mauricettes (Ferrandi) | C2: recette | D2: 0.94 | E2: kg | F2: Snacking boulanger (pizza, fougasse)
A3: 1 | B3: ↳ Farine de tradition française T65 | C3: matiere | D3: 0.5 | E3: kg | F3: Farines de blé
A4: 1 | B4: ↳ Lait entier UHT 3,5% MG brique 1L | C4: matiere | D4: 0.25 | E4: lt | F4: Laits et laits en poudre
A5: 1 | B5: ↳ Sel fin de cuisine | C5: matiere | D5: 0.009 | E5: kg | F5: Sels et condiments de base
A6: 1 | B6: ↳ Beurre doux 82% MG plaquette | C6: matiere | D6: 0.08 | E6: kg | F6: Beurres et margarines
A7: 1 | B7: ↳ Levure fraîche de boulanger | C7: matiere | D7: 0.02 | E7: kg | F7: Levures et agents levants
A8: 1 | B8: ↳ Sucre blanc cristal sac 25 kg | C8: matiere | D8: 0.01 | E8: kg | F8: Sucres et édulcorants
A9: 1 | B9: ↳ Levain liquide (rafraîchi, Ferrandi) | C9: recette | D9: 0.15 | E9: kg | F9: Pains de tradition et levain
A10: 2 | B10: ↳ Levain chef (Ferrandi) | C10: recette | D10: 0.03 | E10: kg | F10: Pains de tradition et levain
A11: 3 | B11: ↳ Miel toutes fleurs vrac | C11: matiere | D11: 0.001 | E11: kg | F11: Sucres et édulcorants
A12: 3 | B12: ↳ Eau (robinet - moy. France 2026) | C12: matiere | D12: 0.016 | E12: lt | F12: Matières premières
A13: 3 | B13: ↳ Farine de seigle T130 | C13: matiere | D13: 0.013 | E13: kg | F13: Farines alternatives & spéciales
... A21: 1 | B21: ↳ Oignons frits croustillants — à réactualiser | C21: matiere | D21: 0.06 | E21: kg | F21: Épices en poudre et graines

Sheet Procedure
A1: Recette | B1: # | C1: Verbe | D1: Étape | E1: Précision technique | F1: Durée
A2: Hot-dog / mauricettes (Ferrandi) | B2: 1 | C2: FRASER | D2: Frasez tout, pétrissez rapide. | E2: ≤24°C | F2: 13 min (prepa)
A3: Hot-dog / mauricettes (Ferrandi) | B3: 2 | C3: POINTER | D3: Pointez. Divisez en 8, boulez, détendez. | F3: 15 min (repos)
A4: Hot-dog / mauricettes (Ferrandi) | B4: 3 | C4: FAÇONNER | D4: Façonnez en mini-baguettes. Apprêt puis pochage bicarbonate 30 sec/face. | F4: 45 min (repos)
A5: Hot-dog / mauricettes (Ferrandi) | B5: 4 | C5: DORER | D5: Dorez au blanc d'œuf, grigne en saucisson. Enfournez. | E5: 220°C | F5: 18 min (cuisson)
A6: Hot-dog / mauricettes (Ferrandi) | B6: 5 | C6: POCHER | D6: Pochez les saucisses. Fendez les pains, moutarde, saucisse, quelques minutes sous le gril, ketchup, oignons frits. | F6: 10 min (cuisson)
A7: Levain liquide (rafraîchi, Ferrandi) | B7: 1 | C7: VERSER | D7: Verser l'eau (120g) à 45°C dans le bocal du levain, délayer légèrement à la maryse. | E7: Eau à 45°C | F7: 5 min (prepa)
A8: Levain liquide (rafraîchi, Ferrandi) | B8: 2 | C8: VERSER | D8: Verser le levain tout point (60g) dans un saladier, fouetter jusqu'à petites bulles.
A9: Levain liquide (rafraîchi, Ferrandi) | B9: 3 | C9: INCORPORER | D9: Ajouter la farine de tradition T65 (120g), mélanger au fouet.
A10: Levain liquide (rafraîchi, Ferrandi) | B10: 4 | C10: VERSER | D10: Verser dans un bocal propre, réserver au chaud jusqu'à tripler de volume, grosses bulles, début de crevasses. | E10: Idéalement 35°C — odeur/goût légers, lactiques, comme un yaourt | F10: 300 min (repos)
A11: Levain chef (Ferrandi) | B11: 1 | C11: VERSER | D11: Dans un saladier, verser le miel (5g) et l'eau (100g) à 45°C, mélanger pour dissoudre. | E11: Eau à 45°C | F11: 5 min (prepa)
A12: Levain chef (Ferrandi) | B12: 2 | C12: INCORPORER | D12: Incorporer la farine de seigle (85g) au fouet.
A13: Levain chef (Ferrandi) | B13: 3 | C13: METTRE | D13: Mettre dans un bocal propre, réserver au chaud jusqu'à odeur marquée et grosses bulles, texture façon mousse au chocolat. | E13: Idéalement 35°C | F13: 2160 min (repos)

Sheet Carte imprimable
A1: Fiche technique — Hot-dog / mauricettes (Ferrandi)
A2: ="FER-HOTDOG · BOU.SNACKING · référence : "&Besoins!B3&" "&Besoins!C3&" · multiplicateur réglable sur la feuille ""Besoins""" -> FER-HOTDOG · BOU.SNACKING · référence : 0,94 kg · multiplicateur réglable sur la feuille
A4: Hot-dog / mauricettes (Ferrandi) FER-HOTDOG
A5: 1. | B5: ="[FRASER] "&Procedure!D2 -> [FRASER] Frasez tout, pétrissez rapide.
B6: Farine de tradition française T65 | C6: ='Besoins'!$B$2*0.5 -> 0.5 | D6: kg
B7: =Besoins!B15 -> Lait entier UHT 3,5% MG brique 1L | C7: =Besoins!E15 -> 0.25 | D7: =Besoins!F15 -> lt
B8: =Besoins!B19 -> Sel fin de cuisine | C8: =Besoins!E19 -> 0.009 | D8: =Besoins!F19 -> kg
B9: =Besoins!B14 -> Beurre doux 82% MG plaquette | C9: =Besoins!E14 -> 0.08 | D9: =Besoins!F14 -> kg
B10: =Besoins!B17 -> Levure fraîche de boulanger | C10: =Besoins!E17 -> 0.02 | D10: =Besoins!F17 -> kg
B11: =Besoins!B21 -> Sucre blanc cristal sac 25 kg | C11: =Besoins!E21 -> 0.01 | D11: =Besoins!F21 -> kg
B12: Levain liquide (rafraîchi, Ferrandi) | C12: ='Besoins'!$B$2*0.15 -> 0.15 | D12: kg
B13: =Besoins!B13 -> Huile de tournesol raffinée vrac | C13: =Besoins!E13 -> 0.02 | D13: =Besoins!F13 -> lt
B14: ="ℹ "&Procedure!E2 -> ℹ
A15: 2. | B15: ="[POINTER] "&Procedure!D3 -> [POINTER] Pointez. Divisez en 8, boulez, détendez.
A16: 3. | B16: ="[FAÇONNER] "&Procedure!D4 -> [FAÇONNER] Façonnez en mini-baguettes. Apprêt puis pochage bicarbonate 30 sec/face.
B17: =Besoins!B16 -> Bicarbonate de sodium alimentaire | C17: =Besoins!E16 -> 0.055 | D17: =Besoins!F16 -> kg
A18: 4. | B18: ="[DORER] "&Procedure!D5 -> [DORER] Dorez au blanc d'œuf, grigne en saucisson. Enfournez.
B19: =Besoins!B21 -> Sucre blanc cristal sac 25 kg | C19: =Besoins!E21 -> 0.01 | D19: =Besoins!F21 -> kg
B20: ="ℹ "&Procedure!E5 -> ℹ
A21: 5. | B21: ="[POCHER] "&Procedure!D6 -> [POCHER] Pochez les saucisses. Fendez les pains, moutarde, saucisse, quelques minutes sous le gril, ketchup, oignons frits.
B22: =Besoins!B10 -> Saucisses de Francfort — à réactualiser | C22: =Besoins!E10 -> 0.56 | D22: =Besoins!F10 -> kg
B23: =Besoins!B18 -> Moutarde de Dijon forte | C23: =Besoins!E18 -> 0.05 | D23: =Besoins!F18 -> kg
B24: =Besoins!B8 -> Ketchup — à réactualiser | C24: =Besoins!E8 -> 0.05 | D24: =Besoins!F8 -> kg
B25: =Besoins!B9 -> Oignons frits croustillants — à réactualiser | C25: =Besoins!E9 -> 0.06 | D25: =Besoins!F9 -> kg
A27: ↳ Levain liquide (rafraîchi, Ferrandi) FER-LEVLIQ
A28: 1. | B28: ="[VERSER] "&Procedure!D7 -> [VERSER] Verser l'eau (120g) à 45°C dans le bocal du levain, délayer légèrement à la maryse.
B29: Eau (robinet - moy. France 2026) | C29: ='Besoins'!$B$2*0.06 -> 0.06 | D29: lt
B30: ="ℹ "&Procedure!E7 -> ℹ
A31: 2. | B31: ="[VERSER] "&Procedure!D8 -> [VERSER] Verser le levain tout point (60g) dans un saladier, fouetter jusqu'à petites bulles.
B32: Levain chef (Ferrandi) | C32: ='Besoins'!$B$2*0.03 -> 0.03 | D32: kg
A33: 3. | B33: ="[INCORPORER] "&Procedure!D9 -> [INCORPORER] Ajouter la farine de tradition T65 (120g), mélanger au fouet.
B34: Farine de tradition française T65 | C34: ='Besoins'!$B$2*0.06 -> 0.06 | D34: kg
A35: 4. | B35: ="[VERSER] "&Procedure!D10 -> [VERSER] Verser dans un bocal propre, réserver au chaud jusqu'à tripler de volume, grosses bulles, début de crevasses.
B36: ="ℹ "&Procedure!E10 -> ℹ
A38: ↳ Levain chef (Ferrandi) FER-LEVCHEF
A39: 1. | B39: ="[VERSER] "&Procedure!D11 -> [VERSER] Dans un saladier, verser le miel (5g) et l'eau (100g) à 45°C, mélanger pour dissoudre.
B40: =Besoins!B20 -> Miel toutes fleurs vrac | C40: =Besoins!E20 -> 0.000789 | D40: =Besoins!F20 -> kg
B41: Eau (robinet - moy. France 2026) | C41: ='Besoins'!$B$2*0.0157894737 -> 0.015789 | D41: lt
B42: ="ℹ "&Procedure!E11 -> ℹ
A43: 2. | B43: ="[INCORPORER] "&Procedure!D12 -> [INCORPORER] Incorporer la farine de seigle (85g) au fouet.
...
