Workbook

Sheet Fiche
A1: Fiche technique
A2: Nom | B2: Pain à la châtaigne (Ferrandi, sans gluten)
A3: Code | B3: FER-PAINCHATA
A4: Classe | B4: Pains spéciaux (BOU.PAINS_SPECIAUX)
A5: Statut | B5: publie
A6: Verrouillée | B6: Oui — FER.BOUL -- 91 recettes/bases, composants_lies complets, imbrication FT chapitre 9, valide Palika 22/07/2026
A7: Source bibliographique | B7: Boulangerie Viennoiserie — Recettes et techniques d'une école d'excellence (FER.BOUL)
A8: Provenance
A10: Quantité de référence | B10: 1,01 kg
A11: Coût de revient H.T. (qt de référence) | B11: 2.521735
A12: Coût unitaire H.T. | B12: 2.4967673
A14: Quantité demandée pour cet export | B14: 1,01 kg
A15: Coût de revient total H.T. pour cette quantité | B15: 2.521735
A17: Export généré le | B17: 30/10/2026 14:57
B18: CUIS.web — Portage du CUIS Clipper de 1992 par Palika & Bernard Vandendaele (créateur du moteur récursif d'origine)

Sheet Besoins
A1: Besoins matière
A2: Multiplicateur souhaité | B2: 1
A3: Quantité de référence | B3: 1.01 | C3: kg
A4: Quantité obtenue | B4: =$B$2*B3 -> 1.01 | C4: =C3 -> kg
A6: Code | B6: Matière première | C6: Classe | D6: Base (×1, modifiable) | E6: Quantité | F6: Unité | G6: Coût H.T.
A7: EAU | B7: Eau (robinet - moy. France 2026) | C7: Matières premières | D7: 0.45 | E7: =D7*$B$2 -> 0.45 | F7: lt | G7: =E7*0.0043 -> 0.001935
A8: PSYLLIUM-BLOND | B8: Psyllium blond en poudre — à réactualiser | C8: Épices en poudre et graines | D8: 0.04 | E8: =D8*$B$2 -> 0.04 | F8: kg | G8: =E8*32 -> 1.28
A9: FAR-CHATA | B9: Farine de châtaigne | C9: Farines alternatives & spéciales | D9: 0.1 | E9: =D9*$B$2 -> 0.1 | F9: kg | G9: =E9*4.5 -> 0.45
A10: GRAINE-LIN | B10: Graines de lin dorées | C10: Graines et poudres oléagineux | D10: 0.1 | E10: =D10*$B$2 -> 0.1 | F10: kg | G10: =E10*2.2 -> 0.22
A11: GRAINE-TOURNESOL | B11: Graines de tournesol décortiquées | C11: Graines et poudres oléagineux | D11: 0.1 | E11: =D11*$B$2 -> 0.1 | F11: kg | G11: =E11*2.8 -> 0.28
A12: HUI-COLZA | B12: Huile de colza raffinée vrac | C12: Huiles végétales | D12: 0.03 | E12: =D12*$B$2 -> 0.03 | F12: lt | G12: =E12*1.1 -> 0.033
A13: LEV-FRAICHE | B13: Levure fraîche de boulanger | C13: Levures et agents levants | D13: 0.01 | E13: =D13*$B$2 -> 0.01 | F13: kg | G13: =E13*2.2 -> 0.022
A14: SEL-FIN | B14: Sel fin de cuisine | C14: Sels et condiments de base | D14: 0.008 | E14: =D14*$B$2 -> 0.008 | F14: kg | G14: =E14*0.35 -> 0.0028
A15: MIEL-FLORES | B15: Miel toutes fleurs vrac | C15: Sucres et édulcorants | D15: 0.04 | E15: =D15*$B$2 -> 0.04 | F15: kg | G15: =E15*5.8 -> 0.232
F16: Total | G16: =SUM(G7:G15) -> 0

Sheet Composition
A1: Niveau | B1: Composant | C1: Type | D1: Quantité (pour 1,01 kg) | E1: Unité | F1: Classe
A2: 0 | B2: Pain à la châtaigne (Ferrandi, sans gluten) | C2: recette | D2: 1.01 | E2: kg | F2: Pains spéciaux
A3: 1 | B3: ↳ Eau (robinet - moy. France 2026) | C3: matiere | D3: 0.45 | E3: lt | F3: Matières premières
A4: 1 | B4: ↳ Miel toutes fleurs vrac | C4: matiere | D4: 0.04 | E4: kg | F4: Sucres et édulcorants
A5: 1 | B5: ↳ Psyllium blond en poudre — à réactualiser | C5: matiere | D5: 0.04 | E5: kg | F5: Épices en poudre et graines
A6: 1 | B6: ↳ Farine de châtaigne | C6: matiere | D6: 0.1 | E6: kg | F6: Farines alternatives & spéciales
A7: 1 | B7: ↳ Sel fin de cuisine | C7: matiere | D7: 0.008 | E7: kg | F7: Sels et condiments de base
A8: 1 | B8: ↳ Graines de lin dorées | C8: matiere | D8: 0.1 | E8: kg | F8: Graines et poudres oléagineux
A9: 1 | B9: ↳ Graines de tournesol décortiquées | C9: matiere | D9: 0.1 | E9: kg | F9: Graines et poudres oléagineux
A10: 1 | B10: ↳ Levure fraîche de boulanger | C10: matiere | D10: 0.01 | E10: kg | F10: Levures et agents levants
A11: 1 | B11: ↳ Huile de colza raffinée vrac | C11: matiere | D11: 0.03 | E11: lt | F11: Huiles végétales

Sheet Procedure
A1: Recette | B1: # | C1: Verbe | D1: Étape | E1: Précision technique | F1: Durée
A2: Pain à la châtaigne (Ferrandi, sans gluten) | B2: 1 | C2: MÉLANGER | D2: Mélangez au fouet eau (450g), miel (40g), vinaigre, psyllium (40g) ; reposez jusqu'à texture gélatineuse. | F2: 10 min (repos)
A3: Pain à la châtaigne (Ferrandi, sans gluten) | B3: 2 | C3: MÉLANGER | D3: Mélangez farine de châtaigne (100g), sel (8g), lin (100g), tournesol (100g), levure (10g) et huile (30g) à la feuille jusqu'à décollement des parois. | E3: ≤30°C | F3: 8 min (prepa)
A4: Pain à la châtaigne (Ferrandi, sans gluten) | B4: 3 | C4: DIVISER | D4: Divisez en 10 pâtons de 80-100g, façonnez en petits pains.
A5: Pain à la châtaigne (Ferrandi, sans gluten) | B5: 4 | C5: APPRÊTER | D5: Apprêt en étuve à 30-35°C. | F5: 105 min (repos)
A6: Pain à la châtaigne (Ferrandi, sans gluten) | B6: 5 | C6: ENFOURNER | D6: Enfournez avec buée. | E6: 190°C | F6: 35 min (cuisson)

Sheet Carte imprimable
A1: Fiche technique — Pain à la châtaigne (Ferrandi, sans gluten)
A2: ="FER-PAINCHATA · BOU.PAINS_SPECIAUX · référence : "&Besoins!B3&" "&Besoins!C3&" · multiplicateur réglable sur la feuille ""Besoins""" -> FER-PAINCHATA · BOU.PAINS_SPECIAUX · référence : 1,01 kg · multiplicateur réglable sur la feuille
A4: Pain à la châtaigne (Ferrandi, sans gluten) FER-PAINCHATA
A5: 1. | B5: ="[MÉLANGER] "&Procedure!D2 -> [MÉLANGER] Mélangez au fouet eau (450g), miel (40g), vinaigre, psyllium (40g) ; reposez jusqu'à texture gélatineuse.
B6: =Besoins!B7 -> Eau (robinet - moy. France 2026) | C6: =Besoins!E7 -> 0.45 | D6: =Besoins!F7 -> lt
B7: =Besoins!B15 -> Miel toutes fleurs vrac | C7: =Besoins!E15 -> 0.04 | D7: =Besoins!F15 -> kg
B8: =Besoins!B8 -> Psyllium blond en poudre — à réactualiser | C8: =Besoins!E8 -> 0.04 | D8: =Besoins!F8 -> kg
A9: 2. | B9: ="[MÉLANGER] "&Procedure!D3 -> [MÉLANGER] Mélangez farine de châtaigne (100g), sel (8g), lin (100g), tournesol (100g), levure (10g) et huile (30g) à la feuille jusqu'à décollement des parois.
B10: =Besoins!B9 -> Farine de châtaigne | C10: =Besoins!E9 -> 0.1 | D10: =Besoins!F9 -> kg
B11: =Besoins!B14 -> Sel fin de cuisine | C11: =Besoins!E14 -> 0.008 | D11: =Besoins!F14 -> kg
B12: =Besoins!B10 -> Graines de lin dorées | C12: =Besoins!E10 -> 0.1 | D12: =Besoins!F10 -> kg
B13: =Besoins!B11 -> Graines de tournesol décortiquées | C13: =Besoins!E11 -> 0.1 | D13: =Besoins!F11 -> kg
B14: =Besoins!B13 -> Levure fraîche de boulanger | C14: =Besoins!E13 -> 0.01 | D14: =Besoins!F13 -> kg
B15: =Besoins!B12 -> Huile de colza raffinée vrac | C15: =Besoins!E12 -> 0.03 | D15: =Besoins!F12 -> lt
B16: ="ℹ "&Procedure!E3 -> ℹ
A17: 3. | B17: ="[DIVISER] "&Procedure!D4 -> [DIVISER] Divisez en 10 pâtons de 80-100g, façonnez en petits pains.
A18: 4. | B18: ="[APPRÊTER] "&Procedure!D5 -> [APPRÊTER] Apprêt en étuve à 30-35°C.
A19: 5. | B19: ="[ENFOURNER] "&Procedure!D6 -> [ENFOURNER] Enfournez avec buée.
B20: ="ℹ "&Procedure!E6 -> ℹ
A22: CUIS.web — Portage du CUIS Clipper de 1992 par Palika & Bernard Vandendaele (créateur du moteur récursif d'origine)
