Workbook

Sheet Fiche
A1: Fiche technique
A2: Nom | B2: Bouchées bohémienne
A3: Code | B3: EC_BOUC_BOHM
A4: Classe | B4: Entrées chaudes (CUI.ENTREES_CHAUDES)
A5: Statut | B5: publie
A6: Verrouillée | B6: Oui — Corpus CDR (Cuisine de Référence 1993) audité et corrigé — verrouillé Chapitre 5
A7: Source bibliographique | B7: La Cuisine de Référence (BPI.CDR)
A8: Provenance
A10: Quantité de référence | B10: 1 pc
A11: Coût de revient H.T. (qt de référence) | B11: 3.6615977
A12: Coût unitaire H.T. | B12: 3.6615977
A14: Quantité demandée pour cet export | B14: 1 pc
A15: Coût de revient total H.T. pour cette quantité | B15: 3.6615977
A17: Export généré le | B17: 30/10/2026 14:57
B18: CUIS.web — Portage du CUIS Clipper de 1992 par Palika & Bernard Vandendaele (créateur du moteur récursif d'origine)

Sheet Besoins
A1: Besoins matière
A2: Multiplicateur souhaité | B2: 1
A3: Quantité de référence | B3: 1 | C3: pc
A4: Quantité obtenue | B4: =$B$2*B3 -> 1 | C4: =C3 -> pc
A6: Code | B6: Matière première | C6: Classe | D6: Base (×1, modifiable) | E6: Quantité | F6: Unité | G6: Coût H.T.
A7: EAU | B7: Eau (robinet - moy. France 2026) | C7: Matières premières | D7: 1.2 | E7: =D7*$B$2 -> 1.2 | F7: lt | G7: =E7*0.0043 -> 0.00516
A8: 00001666 | B8: sauce aigre douce | C8: Sauces et ketchup | D8: 0.02 | E8: =D8*$B$2 -> 0.02 | F8: kg | G8: =E8*4.2 -> 0.084
A9: 00001716 | B9: vinaigre alcool blanc | C9: Vinaigres et acides | D9: 0.05 | E9: =D9*$B$2 -> 0.05 | F9: lt | G9: =E9*0 -> 0
A10: 00000139 | B10: FARINE (000) | C10: Farines de blé | D10: 0.2 | E10: =D10*$B$2 -> 0.2 | F10: kg | G10: =E10*0.489836 -> 0.097967
A11: 00001922 | B11: bouquet garni arôme | C11: Fonds concentrés et extraits | D11: 1 | E11: =D11*$B$2 -> 1 | F11: pc | G11: =E11*0 -> 0
A12: 00000224 | B12: CITRON | C12: Agrumes | D12: 0.012 | E12: =D12*$B$2 -> 0.012 | F12: kg | G12: =E12*1.09074 -> 0.013089
A13: HUI-OLIVE-VE | B13: Huile d'olive vierge extra | C13: Huiles végétales | D13: 0.1 | E13: =D13*$B$2 -> 0.1 | F13: lt | G13: =E13*7.5 -> 0.75
A14: 00000051 | B14: LAIT | C14: Produits laitiers et œufs | D14: 0.2 | E14: =D14*$B$2 -> 0.2 | F14: lt | G14: =E14*0.5999 -> 0.11998
A15: 00000048 | B15: BEURRE | C15: Beurres et margarines | D15: 0.04 | E15: =D15*$B$2 -> 0.04 | F15: kg | G15: =E15*3.9514 -> 0.158056
A16: 00002028 | B16: ail haché | C16: Légumes | D16: 0.01 | E16: =D16*$B$2 -> 0.01 | F16: kg | G16: =E16*9.26 -> 0.0926
A17: 00002049 | B17: oignons émincés | C17: Légumes | D17: 0.2 | E17: =D17*$B$2 -> 0.2 | F17: pc | G17: =E17*0 -> 0
A18: 00002041 | B18: persil | C18: Légumes | D18: 0.4 | E18: =D18*$B$2 -> 0.4 | F18: kg | G18: =E18*4.5 -> 1.8
A19: 00002238 | B19: carottes râpées | C19: Légumes 4ème et 5ème gamme | D19: 0.2 | E19: =D19*$B$2 -> 0.2 | F19: kg | G19: =E19*0 -> 0
A20: 00000047 | B20: OEUF A3 (PRIX) | C20: Oeufs entiers | D20: 2 | E20: =D20*$B$2 -> 2 | F20: pc | G20: =E20*0.27 -> 0.54
A21: 00000033 | B21: SEL | C21: Sels et condiments de base | D21: 0.004 | E21: =D21*$B$2 -> 0.004 | F21: kg | G21: =E21*0.186416 -> 0.000746
F22: Total | G22: =SUM(G7:G21) -> 0

Sheet Composition
A1: Niveau | B1: Composant | C1: Type | D1: Quantité (pour 1 pc) | E1: Unité | F1: Classe
A2: 0 | B2: Bouchées bohémienne | C2: recette | D2: 1 | E2: pc | F2: Entrées chaudes
A3: 1 | B3: ↳ Eau (robinet - moy. France 2026) | C3: matiere | D3: 1.2 | E3: kg | F3: Matières premières
A4: 1 | B4: ↳ vinaigre alcool blanc | C4: matiere | D4: 0.05 | E4: lt | F4: Vinaigres et acides
A5: 1 | B5: ↳ carottes râpées | C5: matiere | D5: 0.2 | E5: kg | F5: Légumes 4ème et 5ème gamme
A6: 1 | B6: ↳ oignons émincés | C6: matiere | D6: 0.2 | E6: kg | F6: Légumes
A7: 1 | B7: ↳ bouquet garni arôme | C7: matiere | D7: 1 | E7: pc | F7: Fonds concentrés et extraits
A8: 1 | B8: ↳ Huile d'olive vierge extra | C8: matiere | D8: 0.1 | E8: lt | F8: Huiles végétales
A9: 1 | B9: ↳ CITRON (P) | C9: recette | D9: 0.1 | E9: kg | F9: Conversions fruits frais (P→K)
A10: 2 | B10: ↳ CITRON | C10: matiere | D10: 0.012 | E10: kg | F10: Agrumes
A11: 1 | B11: ↳ FARINE (000) | C11: matiere | D11: 0.2 | E11: kg | F11: Farines de blé
A12: 1 | B12: ↳ SEL | C12: matiere | D12: 0.004 | E12: kg | F12: Sels et condiments de base
A13: 1 | B13: ↳ OEUF (P) | C13: recette | D13: 2 | E13: pc | F13: Conversions oeufs et ovoproduits
... A20: 1 | B20: ↳ persil | C20: matiere | D20: 0.4 | E20: kg | F20: Légumes

Sheet Procedure
A1: Recette | B1: # | C1: Verbe | D1: Étape | E1: Précision technique | F1: Durée
A2: Bouchées bohémienne | B2: 1 | C2: RÉALISER | D2: Réaliser la recette selon la technique BPI — voir La Cuisine de Référence p.XXX. Mettre en place le poste de travail, préparer les denrées, réaliser et dresser selon les explications.

Sheet Carte imprimable
A1: Fiche technique — Bouchées bohémienne
A2: ="EC_BOUC_BOHM · CUI.ENTREES_CHAUDES · référence : "&Besoins!B3&" "&Besoins!C3&" · multiplicateur réglable sur la feuille ""Besoins""" -> EC_BOUC_BOHM · CUI.ENTREES_CHAUDES · référence : 1 pc · multiplicateur réglable sur la feuille
A4: Bouchées bohémienne EC_BOUC_BOHM
A5: 1. | B5: ="[RÉALISER] "&Procedure!D2 -> [RÉALISER] Réaliser la recette selon la technique BPI — voir La Cuisine de Référence p.XXX. Mettre en place le poste de travail, préparer les denrées, réaliser et dresser selon les explications.
B6: =Besoins!B7 -> Eau (robinet - moy. France 2026) | C6: =Besoins!E7 -> 1.2 | D6: =Besoins!F7 -> kg
B7: =Besoins!B9 -> vinaigre alcool blanc | C7: =Besoins!E9 -> 0.05 | D7: =Besoins!F9 -> lt
B8: =Besoins!B19 -> carottes râpées | C8: =Besoins!E19 -> 0.2 | D8: =Besoins!F19 -> kg
B9: =Besoins!B17 -> oignons émincés | C9: =Besoins!E17 -> 0.2 | D9: =Besoins!F17 -> kg
B10: =Besoins!B11 -> bouquet garni arôme | C10: =Besoins!E11 -> 1 | D10: =Besoins!F11 -> pc
B11: =Besoins!B13 -> Huile d'olive vierge extra | C11: =Besoins!E13 -> 0.1 | D11: =Besoins!F13 -> lt
B12: CITRON (P) (conv.) | C12: ='Besoins'!$B$2*0.1 -> 0.1 | D12: kg
B13: =Besoins!B10 -> FARINE (000) | C13: =Besoins!E10 -> 0.2 | D13: =Besoins!F10 -> kg
B14: =Besoins!B21 -> SEL | C14: =Besoins!E21 -> 0.004 | D14: =Besoins!F21 -> kg
B15: OEUF (P) (conv.) | C15: ='Besoins'!$B$2*2 -> 2 | D15: pc
B16: =Besoins!B14 -> LAIT | C16: =Besoins!E14 -> 0.2 | D16: =Besoins!F14 -> lt
B17: =Besoins!B15 -> BEURRE | C17: =Besoins!E15 -> 0.04 | D17: =Besoins!F15 -> kg
B18: =Besoins!B16 -> ail haché | C18: =Besoins!E16 -> 0.01 | D18: =Besoins!F16 -> kg
B19: =Besoins!B8 -> sauce aigre douce | C19: =Besoins!E8 -> 0.02 | D19: =Besoins!F8 -> kg
B20: =Besoins!B18 -> persil | C20: =Besoins!E18 -> 0.4 | D20: =Besoins!F18 -> kg
A22: CUIS.web — Portage du CUIS Clipper de 1992 par Palika & Bernard Vandendaele (créateur du moteur récursif d'origine)
