Workbook

Sheet Besoins
A1: Besoins matière
A2: Multiplicateur souhaité | B2: 1
A3: Quantité de référence | B3: 6.907 | C3: kg
A4: Quantité obtenue | B4: =$B$2*B3 -> 6.907 | C4: =C3 -> kg
A6: Code | B6: Matière première | C6: Classe | D6: Base (×1, modifiable) | E6: Quantité | F6: Unité | G6: Coût H.T.
A7: FAR-T55 | B7: Farine de blé T55 | C7: Farines de blé | D7: 3.5 | E7: =D7*$B$2 -> 3.5 | F7: kg | G7: =E7*0.56 -> 1.96
A8: BEU-DOUX | B8: Beurre doux 82% MG plaquette | C8: Beurres et margarines | D8: 1.6 | E8: =D8*$B$2 -> 1.6 | F8: kg | G8: =E8*5.2 -> 8.32
A9: LEV-CHIMIQUE | B9: Levure chimique (poudre à lever) | C9: Levures et agents levants | D9: 0.045 | E9: =D9*$B$2 -> 0.045 | F9: kg | G9: =E9*4.2 -> 0.189
A10: 00000047 | B10: OEUF A3 (PRIX) | C10: Oeufs entiers | D10: 9.090909 | E10: =D10*$B$2 -> 9.090909 | F10: pc | G10: =E10*0.2700000027 -> 2.454545
A11: SEL-FIN | B11: Sel fin de cuisine | C11: Sels et condiments de base | D11: 0.012 | E11: =D11*$B$2 -> 0.012 | F11: kg | G11: =E11*0.35 -> 0.0042
A12: SUC-BLANC | B12: Sucre blanc cristal sac 25 kg | C12: Sucres et édulcorants | D12: 1.25 | E12: =D12*$B$2 -> 1.25 | F12: kg | G12: =E12*0.82 -> 1.025
F13: Total | G13: =SUM(G7:G12) -> 0

Sheet Procedure
A1: Recette | B1: # | C1: Verbe | D1: Étape | E1: Précision technique | F1: Durée
A2: PÂTE SABLÉE (TARTE AU CITRON) | B2: 1 | D2: Mise en place du poste de travail — Vérifier les D.L.C., peser les denrées, sélectionner le matériel nécessaire. Laver et désinfecter le matériel et le poste de travail en suivant les protocoles.
A3: PÂTE SABLÉE (TARTE AU CITRON) | B3: 2 | D3: Sabler — Couper le beurre en parcelles. Au batteur, à la feuille, en première vitesse, sabler la farine, la levure, le sel et le beurre jusqu'à ne plus avoir de morceaux de beurre.
A4: PÂTE SABLÉE (TARTE AU CITRON) | B4: 3 | D4: Lier — Mélanger à part les œufs et le sucre (le sucre absorbe l'eau des œufs et évite de rendre la pâte élastique) ; les verser progressivement sur le sablage ; mélanger sans travailler, juste pour homogénéiser.
A5: PÂTE SABLÉE (TARTE AU CITRON) | B5: 4 | D5: Réserver — Diviser en 4 pâtons ; les aplatir au maximum dans du film ; réserver au froid.

Sheet Arborescence FT
A1: Niveau | B1: Composant | C1: Type | D1: Quantité (× multiplicateur, voir feuille Besoins) | E1: Unité
A2: 0 | B2: PÂTE SABLÉE (TARTE AU CITRON) | C2: recette | D2: ='Besoins'!$B$2*6.907 -> 6.907 | E2: kg
A3: 1 | B3: ↳ Farine de blé T55 | C3: matiere | D3: ='Besoins'!$B$2*3.5 -> 3.5 | E3: kg
A4: 1 | B4: ↳ Beurre doux 82% MG plaquette | C4: matiere | D4: ='Besoins'!$B$2*1.6 -> 1.6 | E4: kg
A5: 1 | B5: ↳ Sucre blanc cristal sac 25 kg | C5: matiere | D5: ='Besoins'!$B$2*1.25 -> 1.25 | E5: kg
A6: 1 | B6: ↳ OEUF (ml) (conv.) | C6: conversion | D6: ='Besoins'!$B$2*0.5 -> 0.5 | E6: lt
A7: 1 | B7: ↳ Levure chimique (poudre à lever) | C7: matiere | D7: ='Besoins'!$B$2*0.045 -> 0.045 | E7: kg
A8: 1 | B8: ↳ Sel fin de cuisine | C8: matiere | D8: ='Besoins'!$B$2*0.012 -> 0.012 | E8: kg

Sheet Carte imprimable
A1: Fiche technique — PÂTE SABLÉE (TARTE AU CITRON)
A2: ="GRO_CDC_217A · GRO.BASES · référence : "&Besoins!B3&" "&Besoins!C3&" · multiplicateur réglable sur la feuille ""Besoins""" -> GRO_CDC_217A · GRO.BASES · référence : 6,907 kg · multiplicateur réglable sur la feuille
A4: PÂTE SABLÉE (TARTE AU CITRON) GRO_CDC_217A
A5: 1. | B5: =Procedure!D2 -> Mise en place du poste de travail — Vérifier les D.L.C., peser les denrées, sélectionner le matériel nécessaire. Laver et désinfecter le matériel et le poste de travail en suivant les protocoles.
A6: 2. | B6: =Procedure!D3 -> Sabler — Couper le beurre en parcelles. Au batteur, à la feuille, en première vitesse, sabler la farine, la levure, le sel et le beurre jusqu'à ne plus avoir de morceaux de beurre.
B7: =Besoins!B7 -> Farine de blé T55 | C7: =Besoins!E7 -> 3.5 | D7: =Besoins!F7 -> kg
B8: =Besoins!B8 -> Beurre doux 82% MG plaquette | C8: =Besoins!E8 -> 1.6 | D8: =Besoins!F8 -> kg
B9: =Besoins!B9 -> Levure chimique (poudre à lever) | C9: =Besoins!E9 -> 0.045 | D9: =Besoins!F9 -> kg
B10: =Besoins!B11 -> Sel fin de cuisine | C10: =Besoins!E11 -> 0.012 | D10: =Besoins!F11 -> kg
A11: 3. | B11: =Procedure!D4 -> Lier — Mélanger à part les œufs et le sucre (le sucre absorbe l'eau des œufs et évite de rendre la pâte élastique) ; les verser progressivement sur le sablage ; mélanger sans travailler, juste pour homogénéiser.
B12: =Besoins!B12 -> Sucre blanc cristal sac 25 kg | C12: =Besoins!E12 -> 1.25 | D12: =Besoins!F12 -> kg
B13: OEUF (ml) (conv.) | C13: ='Besoins'!$B$2*0.5 -> 0.5 | D13: lt
A14: 4. | B14: =Procedure!D5 -> Réserver — Diviser en 4 pâtons ; les aplatir au maximum dans du film ; réserver au froid.
A16: CUIS.web — Portage du CUIS Clipper de 1992 par Palika & Bernard Vandendaele (créateur du moteur récursif d'origine)
