Workbook

Sheet Fiche
A1: Fiche technique
A2: Nom | B2: CHOUX À LA CRÈME PÂTISSIÈRE
A3: Code | B3: GRO_CDC_238B
A4: Classe | B4: Pâtisserie collectivité (GRO.DESSERTS)
A5: Statut | B5: publie
A6: Verrouillée | B6: Non
A7: Source bibliographique | B7: La Cuisine de Collectivité (BPI.CDC)
A8: Provenance
A10: Quantité de référence | B10: 100 pc
A11: Coût de revient H.T. (qt de référence) | B11: 17.060539
A12: Coût unitaire H.T. | B12: 0.17060539
A14: Quantité demandée pour cet export | B14: 100 pc
A15: Coût de revient total H.T. pour cette quantité | B15: 17.060539
A17: Export généré le | B17: 30/10/2026 15:33
B18: CUIS.web — Portage du CUIS Clipper de 1992 par Palika & Bernard Vandendaele (créateur du moteur récursif d'origine)

Sheet Besoins
A1: Besoins matière
A2: Multiplicateur souhaité | B2: 1
A3: Quantité de référence | B3: 100 | C3: pc
A4: Quantité obtenue | B4: =$B$2*B3 -> 100 | C4: =C3 -> pc
A6: Code | B6: Matière première | C6: Classe | D6: Base (×1, modifiable) | E6: Quantité | F6: Unité | G6: Coût H.T.
A7: EAU | B7: Eau (robinet - moy. France 2026) | C7: Matières premières | D7: 5.04 | E7: =D7*$B$2 -> 5.04 | F7: lt | G7: =E7*0.0043 -> 0.021672
A8: FAR-T55 | B8: Farine de blé T55 | C8: Farines de blé | D8: 0.36 | E8: =D8*$B$2 -> 0.36 | F8: kg | G8: =E8*0.56 -> 0.2016
A9: BEU-DOUX | B9: Beurre doux 82% MG plaquette | C9: Beurres et margarines | D9: 0.1 | E9: =D9*$B$2 -> 0.1 | F9: kg | G9: =E9*5.2 -> 0.52
A10: MARG-PATISSERIE | B10: Margarine de pâtisserie 80% MG | C10: Beurres et margarines | D10: 0.36 | E10: =D10*$B$2 -> 0.36 | F10: kg | G10: =E10*3.6 -> 1.296
A11: 00000047 | B11: OEUF A3 (PRIX) | C11: Oeufs entiers | D11: 12.654545 | E11: =D11*$B$2 -> 12.654545 | F11: pc | G11: =E11*0.2700000097 -> 3.416727
A12: SEL-FIN | B12: Sel fin de cuisine | C12: Sels et condiments de base | D12: 0.0072 | E12: =D12*$B$2 -> 0.0072 | F12: kg | G12: =E12*0.35 -> 0.00252
A13: CREME-PAT-DESHY | B13: Crème pâtissière déshydratée (poudre) | C13: Garnitures et crèmes prêtes | D13: 1.74 | E13: =D13*$B$2 -> 1.74 | F13: kg | G13: =E13*6.5 -> 11.31
A14: SUC-BLANC | B14: Sucre blanc cristal sac 25 kg | C14: Sucres et édulcorants | D14: 0.036 | E14: =D14*$B$2 -> 0.036 | F14: kg | G14: =E14*0.82 -> 0.02952
A15: SUC-GLACE | B15: Sucre glace tamisé | C15: Sucres et édulcorants | D15: 0.25 | E15: =D15*$B$2 -> 0.25 | F15: kg | G15: =E15*1.05 -> 0.2625
F16: Total | G16: =SUM(G7:G15) -> 0

Sheet Composition
A1: Niveau | B1: Composant | C1: Type | D1: Quantité (pour 100 pc) | E1: Unité | F1: Classe
A2: 0 | B2: CHOUX À LA CRÈME PÂTISSIÈRE | C2: recette | D2: 100 | E2: pc | F2: Pâtisserie collectivité
A3: 1 | B3: ↳ PÂTE À CHOUX | C3: recette | D3: 36 | E3: pc | F3: Préparations de base collectivité
A4: 2 | B4: ↳ Margarine de pâtisserie 80% MG | C4: matiere | D4: 0.36 | E4: kg | F4: Beurres et margarines
A5: 2 | B5: ↳ Farine de blé T55 | C5: matiere | D5: 0.36 | E5: kg | F5: Farines de blé
A6: 2 | B6: ↳ Sucre blanc cristal sac 25 kg | C6: matiere | D6: 0.036 | E6: kg | F6: Sucres et édulcorants
A7: 2 | B7: ↳ OEUF (ml) | C7: recette | D7: 0.54 | E7: lt | F7: Conversions oeufs et ovoproduits
A8: 3 | B8: ↳ OEUF A3 (PRIX) | C8: matiere | D8: 9.818 | E8: pc | F8: Oeufs entiers
A9: 2 | B9: ↳ DORURE | C9: recette | D9: 0.036 | E9: lt | F9: Appareils divers
A10: 3 | B10: ↳ OEUF (P) | C10: recette | D10: 0.655 | E10: pc | F10: Conversions oeufs et ovoproduits
A11: 4 | B11: ↳ OEUF (ml) | C11: recette | D11: 0.036 | E11: lt | F11: Conversions oeufs et ovoproduits
A12: 5 | B12: ↳ OEUF A3 (PRIX) | C12: matiere | D12: 0.655 | E12: pc | F12: Oeufs entiers
A13: 2 | B13: ↳ Eau (robinet - moy. France 2026) | C13: matiere | D13: 0.72 | E13: lt | F13: Matières premières
... A23: 1 | B23: ↳ Beurre doux 82% MG plaquette | C23: matiere | D23: 0.1 | E23: kg | F23: Beurres et margarines

Sheet Procedure
A1: Recette | B1: # | C1: Verbe | D1: Étape | E1: Précision technique | F1: Durée
A2: CHOUX À LA CRÈME PÂTISSIÈRE | B2: 1 | D2: Mise en place du poste de travail — Vérifier les D.L.C., peser les denrées, sélectionner le matériel nécessaire. Laver et désinfecter le matériel et le poste de travail en suivant les protocoles.
A3: CHOUX À LA CRÈME PÂTISSIÈRE | B3: 2 | D3: Préparations préliminaires — Préparer la pâte à choux (Fiche 212). Faire fondre 100 g de beurre et badigeonner très légèrement les plaques. Préchauffer le four en chaleur sèche à + 190 / 200 °C, clé fermée. Préparer la dorure (2 œufs battus avec un peu d'eau). Préparer une poche à douille unie n°10 (dressage) et une poche à douille cannelée n°10 (garnissage).
A4: CHOUX À LA CRÈME PÂTISSIÈRE | B4: 3 | D4: Dresser les choux — Poche tenue droite, dresser les choux en quinconce (4 rangées de 5 sur une plaque 60 × 40, 3 rangées de 5 sur une plaque GN 1/1). Quadriller le dessus à la fourchette mouillée. Dorer au pinceau. Étager les plaques.
A5: CHOUX À LA CRÈME PÂTISSIÈRE | B5: 4 | D5: Cuire les choux — Cuire à + 190 / 200 °C, clé fermée, 15 à 20 minutes (développement). Quand les choux sont bien poussés et légèrement colorés, ouvrir la clé et baisser à + 150 °C ; finir une dizaine de minutes. Tester ; au besoin laisser sécher, porte entrouverte. Mettre les choux sur grilles retournées.
A6: CHOUX À LA CRÈME PÂTISSIÈRE | B6: 5 | D6: Garnir les choux — Confectionner la crème pâtissière et la laisser refroidir. Au couteau-scie, décalotter les choux ; découper éventuellement le chapeau à l'emporte-pièce cannelé de 5 cm. Garnir à la poche cannelée en terminant par une rosace bien cannelée ; reposer le chapeau. Saupoudrer de sucre glace.
A7: CHOUX À LA CRÈME PÂTISSIÈRE | B7: 6 | D7: Suggestions — On peut cuire les choux la veille ; trop cuits ou desséchés, les stocker une nuit en chambre froide pour les ramollir.
A8: PÂTE À CHOUX | B8: 1 | D8: Mise en place du poste de travail — Vérifier les D.L.C., peser les denrées, sélectionner le matériel nécessaire. Laver et désinfecter le matériel et le poste de travail en suivant les protocoles.
A9: PÂTE À CHOUX | B9: 2 | D9: Préparations préliminaires — Dans une calotte, faire fondre le beurre (margarine). Au pinceau, enduire légèrement de beurre fondu 10 plaques GN 1/1 ou 5 plaques 60 x 40. Retirer l'excédent de beurre avec une serviette en papier jetable. Réserver. Dans une calotte, battre l'œuf pour la dorure. Réserver. Tamiser la farine.
A10: PÂTE À CHOUX | B10: 3 | D10: Confectionner la pâte à choux — Dans la cuve du batteur, amener à ébullition, l'eau, le sel, le sucre et la matière grasse. Laisser fondre la matière grasse dans l'eau avant de porter à ébullition pour éviter de faire évaporer trop d'eau et ainsi d'en réduire le volume prévu. Verser la farine tamisée dans l'eau bouillante. Remuer et mélanger avec un fouet pour éviter les grumeaux et obtenir un liquide pâteux.
A11: PÂTE À CHOUX | B11: 4 | D11: Dessécher l'empois par évaporation — Aussitôt, positionner la cuve sur le batteur/mélangeur et à la feuille, en deuxième vitesse, dessécher l'appareil. En fin de dessèchement, la pâte ne doit pas coller à la feuille ni à la cuve.
A12: PÂTE À CHOUX | B12: 5 | D12: Incorporer les œufs — En première vitesse, incorporer 1/3 du total des œufs. Lorsque les œufs seront absorbés, travailler la pâte en deuxième vitesse. Continuer progressivement l'incorporation des œufs en 3 ou 4 fois. Travailler la pâte afin d'obtenir une pâte lisse et homogène. En fin d'incorporation des œufs, la feuille doit à l'arrêt du batteur, laisser une trace dans la pâte. Au dernier moment de l'incorporation des œufs, juger le besoin en œufs et la capacité d'absorption de votre pâte. Tester sa consistance.
A13: PÂTE À CHOUX | B13: 6 | D13: Dresser ou coucher la pâte — Remplir la poche jetable munie d'une douille n°10 de diamètre. Presser la poche avec la main droite et guider la douille de la main gauche. Dresser les choux ou coucher les éclairs, sur les plaques choisies en respectant le quinconce pour faciliter la circulation de l'air chaud entre les pièces. 15 par plaque GN 1/1 : 5x3 rangs. 4 par plaque 60x40 : 6x4 rangs. Avec une fourchette mouillée, faire un léger quadrillage sur les choux et le long des éclairs, ceci afin d'uniformiser les pièces. Au pinceau, enduire les pièces de dorure.
... A15: PÂTE À CHOUX | B15: 8 | D15: Suggestions — La pâte à choux supporte très bien la congélation. Stocker les pièces dans un récipient étanche, indiquer la traçabilité du produit et sa date de mise en congélation. On peut congeler la pâte à choux avant cuisson sur des feuilles de papier cuisson ou des tapis de cuisson. Les décongeler avant la cuisson. Si la pâte à choux un peu trop cuite se durcit, laisser les coques en chambre froide pour qu'elles se réhydratent.
A16: DORURE | D16: 📜 Recette historique (Base Clipper DOS, 1992) — premiers pas de Palika en gestion informatique des recettes, largement inspirés de son cahier manuscrit personnel de 1985. À cette époque, la procédure n'était pas rédigée séparément : l'ORDRE des ingrédients dans la composition ci-dessous faisait office de déroulé de fabrication. Le cahier de 1985 original (en cours de numérisation) contient les procédures complètes, rédigées dans le style des fiches techniques actuelles.
A17: Crème pâtissière à froid reconstituée (collectivité) | B17: 1 | C17: BATTRE | D17: Verser l'eau froide dans la cuve du batteur, ajouter la poudre, mélanger 1 minute en première vitesse, racler les parois puis battre à grande vitesse jusqu'à obtenir une crème lisse, légère et brillante. Laisser reposer quelques minutes avant emploi.

Sheet Carte imprimable
A1: Fiche technique — CHOUX À LA CRÈME PÂTISSIÈRE
A2: ="GRO_CDC_238B · GRO.DESSERTS · référence : "&Besoins!B3&" "&Besoins!C3&" · multiplicateur réglable sur la feuille ""Besoins""" -> GRO_CDC_238B · GRO.DESSERTS · référence : 100 pc · multiplicateur réglable sur la feuille
A4: CHOUX À LA CRÈME PÂTISSIÈRE GRO_CDC_238B
A5: 1. | B5: =Procedure!D2 -> Mise en place du poste de travail — Vérifier les D.L.C., peser les denrées, sélectionner le matériel nécessaire. Laver et désinfecter le matériel et le poste de travail en suivant les protocoles.
A6: 2. | B6: =Procedure!D3 -> Préparations préliminaires — Préparer la pâte à choux (Fiche 212). Faire fondre 100 g de beurre et badigeonner très légèrement les plaques. Préchauffer le four en chaleur sèche à + 190 / 200 °C, clé fermée. Préparer la dorure (2 œufs battus avec un peu d'eau). Préparer une poche à douille unie n°10 (dressage) et une poche à douille cannelée n°10 (garnissage).
B7: PÂTE À CHOUX | C7: ='Besoins'!$B$2*36 -> 36 | D7: pc
B8: DORURE | C8: ='Besoins'!$B$2*0.12 -> 0.12 | D8: lt
B9: =Besoins!B9 -> Beurre doux 82% MG plaquette | C9: =Besoins!E9 -> 0.1 | D9: =Besoins!F9 -> kg
A10: 3. | B10: =Procedure!D4 -> Dresser les choux — Poche tenue droite, dresser les choux en quinconce (4 rangées de 5 sur une plaque 60 × 40, 3 rangées de 5 sur une plaque GN 1/1). Quadriller le dessus à la fourchette mouillée. Dorer au pinceau. Étager les plaques.
A11: 4. | B11: =Procedure!D5 -> Cuire les choux — Cuire à + 190 / 200 °C, clé fermée, 15 à 20 minutes (développement). Quand les choux sont bien poussés et légèrement colorés, ouvrir la clé et baisser à + 150 °C ; finir une dizaine de minutes. Tester ; au besoin laisser sécher, porte entrouverte. Mettre les choux sur grilles retournées.
A12: 5. | B12: =Procedure!D6 -> Garnir les choux — Confectionner la crème pâtissière et la laisser refroidir. Au couteau-scie, décalotter les choux ; découper éventuellement le chapeau à l'emporte-pièce cannelé de 5 cm. Garnir à la poche cannelée en terminant par une rosace bien cannelée ; reposer le chapeau. Saupoudrer de sucre glace.
B13: Crème pâtissière à froid reconstituée (collectivité) | C13: ='Besoins'!$B$2*6 -> 6 | D13: lt
B14: =Besoins!B15 -> Sucre glace tamisé | C14: =Besoins!E15 -> 0.25 | D14: =Besoins!F15 -> kg
A15: 6. | B15: =Procedure!D7 -> Suggestions — On peut cuire les choux la veille ; trop cuits ou desséchés, les stocker une nuit en chambre froide pour les ramollir.
A17: ↳ PÂTE À CHOUX GRO_CDC_212
A18: 1. | B18: =Procedure!D8 -> Mise en place du poste de travail — Vérifier les D.L.C., peser les denrées, sélectionner le matériel nécessaire. Laver et désinfecter le matériel et le poste de travail en suivant les protocoles.
A19: 2. | B19: =Procedure!D9 -> Préparations préliminaires — Dans une calotte, faire fondre le beurre (margarine). Au pinceau, enduire légèrement de beurre fondu 10 plaques GN 1/1 ou 5 plaques 60 x 40. Retirer l'excédent de beurre avec une serviette en papier jetable. Réserver. Dans une calotte, battre l'œuf pour la dorure. Réserver. Tamiser la farine.
B20: DORURE | C20: ='Besoins'!$B$2*0.036 -> 0.036 | D20: lt
A21: 3. | B21: =Procedure!D10 -> Confectionner la pâte à choux — Dans la cuve du batteur, amener à ébullition, l'eau, le sel, le sucre et la matière grasse. Laisser fondre la matière grasse dans l'eau avant de porter à ébullition pour éviter de faire évaporer trop d'eau et ainsi d'en réduire le volume prévu. Verser la farine tamisée dans l'eau bouillante. Remuer et mélanger avec un fouet pour éviter les grumeaux et obtenir un liquide pâteux.
B22: =Besoins!B10 -> Margarine de pâtisserie 80% MG | C22: =Besoins!E10 -> 0.36 | D22: =Besoins!F10 -> kg
B23: =Besoins!B8 -> Farine de blé T55 | C23: =Besoins!E8 -> 0.36 | D23: =Besoins!F8 -> kg
B24: =Besoins!B14 -> Sucre blanc cristal sac 25 kg | C24: =Besoins!E14 -> 0.036 | D24: =Besoins!F14 -> kg
B25: Eau (robinet - moy. France 2026) | C25: ='Besoins'!$B$2*0.72 -> 0.72 | D25: lt
B26: =Besoins!B12 -> Sel fin de cuisine | C26: =Besoins!E12 -> 0.0072 | D26: =Besoins!F12 -> kg
A27: 4. | B27: =Procedure!D11 -> Dessécher l'empois par évaporation — Aussitôt, positionner la cuve sur le batteur/mélangeur et à la feuille, en deuxième vitesse, dessécher l'appareil. En fin de dessèchement, la pâte ne doit pas coller à la feuille ni à la cuve.
A28: 5. | B28: =Procedure!D12 -> Incorporer les œufs — En première vitesse, incorporer 1/3 du total des œufs. Lorsque les œufs seront absorbés, travailler la pâte en deuxième vitesse. Continuer progressivement l'incorporation des œufs en 3 ou 4 fois. Travailler la pâte afin d'obtenir une pâte lisse et homogène. En fin d'incorporation des œufs, la feuille doit à l'arrêt du batteur, laisser une trace dans la pâte. Au dernier moment de l'incorporation des œufs, juger le besoin en œufs et la capacité d'absorption de votre pâte. Tester sa consistance.
B29: OEUF (ml) (conv.) | C29: ='Besoins'!$B$2*0.54 -> 0.54 | D29: lt
A30: 6. | B30: =Procedure!D13 -> Dresser ou coucher la pâte — Remplir la poche jetable munie d'une douille n°10 de diamètre. Presser la poche avec la main droite et guider la douille de la main gauche. Dresser les choux ou coucher les éclairs, sur les plaques choisies en respectant le quinconce pour faciliter la circulation de l'air chaud entre les pièces. 15 par plaque GN 1/1 : 5x3 rangs. 4 par plaque 60x40 : 6x4 rangs. Avec une fourchette mouillée, faire un léger quadrillage sur les choux et le long des éclairs, ceci afin d'uniformiser les pièces. Au pinceau, enduire les pièces de dorure.
A31: 7. | B31: =Procedure!D14 -> Cuire la pâte à choux — Préchauffer le four sur la position chaleur sèche à +190°C, clé fermée. Étager les plaques sur l'échelle de cuisson. Cuire la pâte à choux sitôt dressée. Phase de développement : enfourner et cuire les pièces pendant 15 à 20 minutes environ. La pâte pousse, gonfle, se solidifie et prend une couleur brune très claire. Phase de dessèchement : lorsque la coque de pâte est assez solidifiée, ouvrir la clé pour évacuer la buée et réduire la chaleur à +160°C et cuire encore 10 minutes environ. Au terme de la cuisson, stopper la source de chaleur et après avoir testé la cuisson, laisser éventuellement quelques instants les pièces se dessécher dans le four porte ouverte. Les pièces doivent être légères et sonner creux. À la sortie du four, débarrasser les pièces sur des grilles retournées.
A32: 8. | B32: =Procedure!D15 -> Suggestions — La pâte à choux supporte très bien la congélation. Stocker les pièces dans un récipient étanche, indiquer la traçabilité du produit et sa date de mise en congélation. On peut congeler la pâte à choux avant cuisson sur des feuilles de papier cuisson ou des tapis de cuisson. Les décongeler avant la cuisson. Si la pâte à choux un peu trop cuite se durcit, laisser les coques en chambre froide pour qu'elles se réhydratent.
A34: ↳ DORURE 00000742
B35: 📜 Recette historique (Base Clipper DOS, 1992) — premiers pas de Palika en gestion informatique des recettes, largement inspirés de son cahier manuscrit personnel de 1985. À cette époque, la procédure n'était pas rédigée séparément : l'ORDRE des ingrédients dans la composition ci-dessous faisait office de déroulé de fabrication. Le cahier de 1985 original (en cours de numérisation) contient les procédures complètes, rédigées dans le style des fiches techniques actuelles.
A37: ↳ Crème pâtissière à froid reconstituée (collectivité) GRO-CREME-PAT
A38: 1. | B38: ="[BATTRE] "&Procedure!D17 -> [BATTRE] Verser l'eau froide dans la cuve du batteur, ajouter la poudre, mélanger 1 minute en première vitesse, racler les parois puis battre à grande vitesse jusqu'à obtenir une crème lisse, légère et brillante. Laisser reposer quelques minutes avant emploi.
B39: Eau (robinet - moy. France 2026) | C39: ='Besoins'!$B$2*4.32 -> 4.32 | D39: lt
B40: =Besoins!B13 -> Crème pâtissière déshydratée (poudre) | C40: =Besoins!E13 -> 1.74 | D40: =Besoins!F13 -> kg
A42: CUIS.web — Portage du CUIS Clipper de 1992 par Palika & Bernard Vandendaele (créateur du moteur récursif d'origine)
