Workbook

Sheet Fiche
A1: Fiche technique
A2: Nom | B2: NAVETS GLACÉS À BLANC (SURGELÉS, MORCEAUX)
A3: Code | B3: GRO_CDC_169D
A4: Classe | B4: Garnitures et légumes collectivité (GRO.GARNITUR)
A5: Statut | B5: publie
A6: Verrouillée | B6: Non
A7: Source bibliographique | B7: La Cuisine de Collectivité (BPI.CDC)
A8: Provenance
A10: Quantité de référence | B10: 100 pc
A11: Coût de revient H.T. (qt de référence) | B11: 52.2425
A12: Coût unitaire H.T. | B12: 0.522425
A14: Quantité demandée pour cet export | B14: 100 pc
A15: Coût de revient total H.T. pour cette quantité | B15: 52.2425
A17: Export généré le | B17: 31/10/2026 07:28
B18: CUIS.web — Portage du CUIS Clipper de 1992 par Palika & Bernard Vandendaele (créateur du moteur récursif d'origine)

Sheet Besoins
A1: Besoins matière
A2: Multiplicateur souhaité | B2: 1
A3: Quantité de référence | B3: 100 | C3: pc
A4: Quantité obtenue | B4: =$B$2*B3 -> 100 | C4: =C3 -> pc
A6: Code | B6: Matière première | C6: Classe | D6: Base (×1, modifiable) | E6: Quantité | F6: Unité | G6: Coût H.T.
A7: BEU-DOUX | B7: Beurre doux 82% MG plaquette | C7: Beurres et margarines | D7: 0.75 | E7: =D7*$B$2 -> 0.75 | F7: kg | G7: =E7*5.2 -> 3.9
A8: SEL-FIN | B8: Sel fin de cuisine | C8: Sels et condiments de base | D8: 0.1 | E8: =D8*$B$2 -> 0.1 | F8: kg | G8: =E8*0.35 -> 0.035
A9: SUC-BLANC | B9: Sucre blanc cristal sac 25 kg | C9: Sucres et édulcorants | D9: 0.375 | E9: =D9*$B$2 -> 0.375 | F9: kg | G9: =E9*0.82 -> 0.3075
A10: NAVET-SURG-MORC | B10: Navets en morceaux surgeles | C10: Légumes surgelés | D10: 25 | E10: =D10*$B$2 -> 25 | F10: kg | G10: =E10*1.92 -> 48
F11: Total | G11: =SUM(G7:G10) -> 0

Sheet Composition
A1: Niveau | B1: Composant | C1: Type | D1: Quantité (pour 100 pc) | E1: Unité | F1: Classe
A2: 0 | B2: NAVETS GLACÉS À BLANC (SURGELÉS, MORCEAUX) | C2: recette | D2: 100 | E2: pc | F2: Garnitures et légumes collectivité
A3: 1 | B3: ↳ Navets en morceaux surgeles | C3: matiere | D3: 25 | E3: kg | F3: Légumes surgelés
A4: 1 | B4: ↳ Beurre doux 82% MG plaquette | C4: matiere | D4: 0.75 | E4: kg | F4: Beurres et margarines
A5: 1 | B5: ↳ Sel fin de cuisine | C5: matiere | D5: 0.1 | E5: kg | F5: Sels et condiments de base
A6: 1 | B6: ↳ Sucre blanc cristal sac 25 kg | C6: matiere | D6: 0.375 | E6: kg | F6: Sucres et édulcorants

Sheet Procedure
A1: Recette | B1: # | C1: Verbe | D1: Étape | E1: Précision technique | F1: Durée
A2: NAVETS GLACÉS À BLANC (SURGELÉS, MORCEAUX) | B2: 1 | D2: Mise en place du poste de travail — Verifier les DLC, peser les denrees, selectionner le materiel necessaire. Laver et desinfecter le materiel et le poste de travail en suivant les protocoles.
A3: NAVETS GLACÉS À BLANC (SURGELÉS, MORCEAUX) | B3: 2 | D3: Preparations preliminaires — Deconditionner les morceaux de navet surgeles suivant la procedure.
A4: NAVETS GLACÉS À BLANC (SURGELÉS, MORCEAUX) | B4: 3 | D4: Marquer la cuisson — Selon la technique de glacage a blanc (voir Fiche 169) : disposer les morceaux de navet dans des bacs beurres, de facon a ce qu'ils ne se superposent pas. Mouiller avec de l'eau aux 3/4 de la hauteur des navets. Saler. Etager les bacs sur l'echelle de cuisson. Enfourner et cuire a couvert. Surveiller attentivement la fin de cuisson pour eviter toute coloration. Au besoin, reduire la temperature du four. Les navets doivent etre blancs et brillants au terme de leur cuisson.
A5: NAVETS GLACÉS À BLANC (SURGELÉS, MORCEAUX) | B5: 4 | D5: Decanter — Debarrasser delicatement les navets directement sur le plat a garnir, ou bien reserver dans le bac de cuisson en attente d'utilisation.

Sheet Carte imprimable
A1: Fiche technique — NAVETS GLACÉS À BLANC (SURGELÉS, MORCEAUX)
A2: ="GRO_CDC_169D · GRO.GARNITUR · référence : "&Besoins!B3&" "&Besoins!C3&" · multiplicateur réglable sur la feuille ""Besoins""" -> GRO_CDC_169D · GRO.GARNITUR · référence : 100 pc · multiplicateur réglable sur la feuille
A4: NAVETS GLACÉS À BLANC (SURGELÉS, MORCEAUX) GRO_CDC_169D
A5: 1. | B5: =Procedure!D2 -> Mise en place du poste de travail — Verifier les DLC, peser les denrees, selectionner le materiel necessaire. Laver et desinfecter le materiel et le poste de travail en suivant les protocoles.
A6: 2. | B6: =Procedure!D3 -> Preparations preliminaires — Deconditionner les morceaux de navet surgeles suivant la procedure.
B7: =Besoins!B10 -> Navets en morceaux surgeles | C7: =Besoins!E10 -> 25 | D7: =Besoins!F10 -> kg
A8: 3. | B8: =Procedure!D4 -> Marquer la cuisson — Selon la technique de glacage a blanc (voir Fiche 169) : disposer les morceaux de navet dans des bacs beurres, de facon a ce qu'ils ne se superposent pas. Mouiller avec de l'eau aux 3/4 de la hauteur des navets. Saler. Etager les bacs sur l'echelle de cuisson. Enfourner et cuire a couvert. Surveiller attentivement la fin de cuisson pour eviter toute coloration. Au besoin, reduire la temperature du four. Les navets doivent etre blancs et brillants au terme de leur cuisson.
B9: =Besoins!B7 -> Beurre doux 82% MG plaquette | C9: =Besoins!E7 -> 0.75 | D9: =Besoins!F7 -> kg
B10: =Besoins!B8 -> Sel fin de cuisine | C10: =Besoins!E8 -> 0.1 | D10: =Besoins!F8 -> kg
B11: =Besoins!B9 -> Sucre blanc cristal sac 25 kg | C11: =Besoins!E9 -> 0.375 | D11: =Besoins!F9 -> kg
A12: 4. | B12: =Procedure!D5 -> Decanter — Debarrasser delicatement les navets directement sur le plat a garnir, ou bien reserver dans le bac de cuisson en attente d'utilisation.
A14: CUIS.web — Portage du CUIS Clipper de 1992 par Palika & Bernard Vandendaele (créateur du moteur récursif d'origine)
