Workbook

Sheet Besoins
A1: Besoins matière
A2: Multiplicateur souhaité | B2: 1
A3: Quantité de référence | B3: 100 | C3: pc
A4: Quantité obtenue | B4: =$B$2*B3 -> 100 | C4: =C3 -> pc
A6: Code | B6: Matière première | C6: Classe | D6: Base (×1, modifiable) | E6: Quantité | F6: Unité | G6: Coût H.T.
A7: EAU | B7: Eau (robinet - moy. France 2026) | C7: Matières premières | D7: 9.8 | E7: =D7*$B$2 -> 9.8 | F7: lt | G7: =E7*0.0043 -> 0.04214
A8: VIN-BLANC-CUI | B8: Vin blanc sec de cuisson | C8: Vins et bières de cuisson | D8: 2 | E8: =D8*$B$2 -> 2 | F8: lt | G8: =E8*2.8 -> 5.6
A9: CONC-TOMATE | B9: Concentré de tomate double | C9: Concentrés et purées cuisines | D9: 0.340909 | E9: =D9*$B$2 -> 0.340909 | F9: pc | G9: =E9*12.60000336 -> 4.295455
A10: EPI-PIMENT-CAYE | B10: Piment de Cayenne | C10: Épices en poudre et graines | D10: 0.008 | E10: =D10*$B$2 -> 0.008 | F10: kg | G10: =E10*9.8 -> 0.0784
A11: EPI-POIVRE-NOIR | B11: Poivre noir moulu | C11: Épices en poudre et graines | D11: 0.007 | E11: =D11*$B$2 -> 0.007 | F11: kg | G11: =E11*12.5 -> 0.0875
A12: HER-ESTRAGON | B12: Estragon séché | C12: Herbes aromatiques séchées | D12: 0.05 | E12: =D12*$B$2 -> 0.05 | F12: kg | G12: =E12*16 -> 0.8
A13: FAR-T55 | B13: Farine de blé T55 | C13: Farines de blé | D13: 0.72 | E13: =D13*$B$2 -> 0.72 | F13: kg | G13: =E13*0.56 -> 0.4032
A14: FOND-POISS-CONC | B14: Fumet de poisson concentré | C14: Fonds concentrés et extraits | D14: 0.1 | E14: =D14*$B$2 -> 0.1 | F14: kg | G14: =E14*30 -> 3
A15: GLACE-CRUSTACES | B15: Glace de crustaces/homard | C15: Fonds concentrés et extraits | D15: 0.1 | E15: =D15*$B$2 -> 0.1 | F15: kg | G15: =E15*18 -> 1.8
A16: KNORR-FUMET-CRUS | B16: Fumet de Crustacés déshydraté (Knorr Professional) | C16: Fonds déshydratés et poudres | D16: 0.125 | E16: =D16*$B$2 -> 0.125 | F16: kg | G16: =E16*27.72 -> 3.465
A17: KNORR-FUMET-POIS | B17: Fumet de Poisson déshydraté (Knorr Professional) | C17: Fonds déshydratés et poudres | D17: 0.075 | E17: =D17*$B$2 -> 0.075 | F17: kg | G17: =E17*23.08 -> 1.731
A18: BEU-CUISINE | B18: Beurre de cuisine bloc 10 kg | C18: Beurres et margarines | D18: 0.72 | E18: =D18*$B$2 -> 0.72 | F18: kg | G18: =E18*4.9 -> 3.528
A19: CRE-FRAICHE-LI | B19: Crème fraîche liquide 15% MG allégée | C19: Crèmes fraîches et laitières | D19: 2 | E19: =D19*$B$2 -> 2 | F19: lt | G19: =E19*2.2 -> 4.4
A20: RNM0020160 | B20: CERFEUIL France botte | C20: Légumes | D20: 1.666667 | E20: =D20*$B$2 -> 1.666667 | F20: bte | G20: =E20*0.59999988 -> 1
A21: SEL-FIN | B21: Sel fin de cuisine | C21: Sels et condiments de base | D21: 0.073 | E21: =D21*$B$2 -> 0.073 | F21: kg | G21: =E21*0.35 -> 0.02555
A22: RNMS00813 | B22: Échalotte hachée IQF | C22: Légumes surgelés | D22: 0.75 | E22: =D22*$B$2 -> 0.75 | F22: kg | G22: =E22*6.96 -> 5.22
A23: RNMS00865 | B23: Tomates en dés surgelées IQF | C23: Légumes surgelés | D23: 5 | E23: =D23*$B$2 -> 5 | F23: kg | G23: =E23*2.92 -> 14.6
A24: RNMS00541 | B24: Cocktail de fruits de mer | C24: Poissons et fruits de mer surgelés | D24: 12 | E24: =D24*$B$2 -> 12 | F24: kg | G24: =E24*10.76 -> 129.12
A25: RNMS00533 | B25: Moules décoquillées cuites | C25: Poissons et fruits de mer surgelés | D25: 4 | E25: =D25*$B$2 -> 4 | F25: kg | G25: =E25*11.4 -> 45.6
F26: Total | G26: =SUM(G7:G25) -> 0

Sheet Procedure
A1: Recette | B1: # | C1: Verbe | D1: Étape | E1: Précision technique | F1: Durée
A2: TIMBALE DE FRUITS DE MER À L'AMÉRICAINE | B2: 1 | D2: Mise en place du poste de travail — Vérifiez les DLC, pesez les denrées, sélectionnez le matériel nécessaire. Désinfectez le matériel et le poste de travail suivant les protocoles.
A3: TIMBALE DE FRUITS DE MER À L'AMÉRICAINE | B3: 2 | D3: Préparations préliminaires — La veille, décongelez les fruits de mer en suivant la procédure. Réservez au froid dans 3 bacs GN 1/1 H 65 perforés doublés de bacs pleins. Déconditionnez la tomate concentrée et la tomate concassée en suivant la procédure. Réservez les dés de tomates surgelés dans un bac GN perforé. Réservez au froid. Réservez la tomate concentrée au froid dans une calotte filmée. Lavez, désinfectez et hachez au cutter le cerfeuil et l'estragon. Réservez au froid.
A4: TIMBALE DE FRUITS DE MER À L'AMÉRICAINE | B4: 3 | D4: Confectionner les fumets — Dans un rondeau, réalisez 10 litres de fumet à partir des deux fonds déshydratés de crustacés et de poisson en se reportant aux recommandations du fabricant. Réservez au chaud en attente d'utilisation.
A5: TIMBALE DE FRUITS DE MER À L'AMÉRICAINE | B5: 4 | D5: Confectionner le roux — Dans un rondeau, faites fondre le beurre. Ajoutez la farine. Mélangez au fouet. Cuisez à feu doux sans coloration. Le roux blanchit et devient mousseux au terme de sa cuisson. Laissez refroidir le roux dans le rondeau qui servira ultérieurement à la confection de la sauce.
A6: TIMBALE DE FRUITS DE MER À L'AMÉRICAINE | B6: 5 | D6: Réaliser la base de la sauce — Dans un rondeau, faites revenir au beurre les échalotes ciselées. Ajoutez les dés de tomates surgelés, la tomate concentrée, le cerfeuil et l'estragon. Mouillez avec le vin blanc. Laissez cuire et réduire afin d'obtenir la consistance d'une fondue. Réservez au chaud en attente d'utilisation.
A7: TIMBALE DE FRUITS DE MER À L'AMÉRICAINE | B7: 6 | D7: Confectionner la sauce américaine — Versez les fumets bouillants sur le roux. Mélangez au fouet et portez à ébullition. Ajoutez la base tomatée. Salez, poivrez. Renforcez le goût avec les concentrés de poisson et de crustacés. Laissez cuire le velouté. Dépouillez la surface du velouté. Ajoutez au velouté la crème fraîche. Montez et émulsionnez la sauce au mixeur pour la rendre onctueuse. Rectifiez l'assaisonnement. Réservez au chaud en attente d'utilisation.
A8: TIMBALE DE FRUITS DE MER À L'AMÉRICAINE | B8: 7 | D8: Cuire les fruits de mer — Préchauffez le four sur la position vapeur. Étagez les 3 bacs GN de fruits de mer sur l'échelle de cuisson. Enfournez et passez à la vapeur durant 5 minutes. Laissez s'égoutter les bacs dans le four.
A9: TIMBALE DE FRUITS DE MER À L'AMÉRICAINE | B9: 8 | D9: Dresser les fruits de mer en timbale — Répartissez les fruits de mer dans 5 bacs GN 1/1 H 65. Nappez et versez équitablement la sauce américaine sur les fruits de mer. Agitez d'un léger mouvement circulaire les bacs de façon à lier tous les éléments ensemble. Respectez la procédure de fin de cuisson. Filmez. Stockez en armoire chaude et maintenez à la température de +63°C en attente de consommation.
A10: TIMBALE DE FRUITS DE MER À L'AMÉRICAINE | B10: 9 | D10: Servir — Servez les fruits de mer à l'américaine à l'assiette accompagnés d'un riz pilaf.
A11: Fumet de crustacés reconstitué (collectivité) | B11: 1 | D11: Délayer la poudre dans l'eau froide en fouettant, puis porter à ébullition en remuant régulièrement.
A12: Fumet de poisson reconstitue (collectivite) | B12: 1 | C12: DISSOUDRE | D12: Délayer la poudre dans l'eau froide en fouettant, puis porter à ébullition en remuant régulièrement.
A13: Concentré de tomate — boîte 4/4 (collectivité) | D13: Pivot de conversion : 1 boîte 4/4 de concentré de tomate double = 0,880kg net, convention déjà en place ailleurs dans le corpus (Fiches 136/139). AUCUNE mercuriale ferme trouvée pour le concentré de tomate spécifiquement (contrairement à la boîte 4/4 générique ~850g du référentiel unite_ref) -- valeur a_verifier, à corriger si une fiche technique produit réelle est trouvée. À utiliser pour toute fiche CDC exprimant le concentré de tomate en boîte(s) 4/4.
A14: ROUX BLANC | B14: 1 | C14: METTRE EN PLACE | D14: Mettre en place le poste de travail — Peser, mesurer, contrôler les denrées. Tamiser la farine. Découper le beurre en parcelles.
A15: ROUX BLANC | B15: 2 | C15: ÉTUVER | D15: Réaliser le roux — Faire fondre le beurre en parcelles dans une grande sauteuse (elle doit pouvoir contenir ensuite le liquide de mouillement : lait, fond, fumet…). Ajouter la farine dès que le beurre est fondu. Mélanger à l'aide d'une spatule en exoglass : le mélange doit être lisse et homogène.
A16: ROUX BLANC | B16: 3 | C16: RÉDUIRE | D16: Cuire le roux blanc — Cuire très doucement à feu réduit, sans arrêter de mélanger à la spatule en exoglass, jusqu'à ce qu'il blanchisse et devienne mousseux : on dit alors qu'il « fleurit » (3 à 4 min). | E16: 3 à 4 min
A17: ROUX BLANC | B17: 4 | C17: REFROIDIR | D17: Arrêter la cuisson — Retirer immédiatement la sauteuse du feu et refroidir rapidement le roux. Si nécessaire, plonger le fond de la sauteuse dans une plaque ou une calotte contenant de l'eau froide.

Sheet Arborescence FT
A1: Niveau | B1: Composant | C1: Type | D1: Quantité (× multiplicateur, voir feuille Besoins) | E1: Unité
A2: 0 | B2: TIMBALE DE FRUITS DE MER À L'AMÉRICAINE | C2: recette | D2: ='Besoins'!$B$2*100 -> 100 | E2: pc
A3: 1 | B3: ↳ Cocktail de fruits de mer | C3: matiere | D3: ='Besoins'!$B$2*12 -> 12 | E3: kg
A4: 1 | B4: ↳ Moules décoquillées cuites | C4: matiere | D4: ='Besoins'!$B$2*4 -> 4 | E4: kg
A5: 1 | B5: ↳ Fumet de crustacés reconstitué (collectivité) | C5: recette | D5: ='Besoins'!$B$2*5 -> 5 | E5: lt
A6: 2 | B6: ↳ Eau (robinet - moy. France 2026) | C6: matiere | D6: ='Besoins'!$B$2*4.875 -> 4.875 | E6: lt
A7: 2 | B7: ↳ Fumet de Crustacés déshydraté (Knorr Professional) | C7: matiere | D7: ='Besoins'!$B$2*0.125 -> 0.125 | E7: kg
A8: 1 | B8: ↳ Fumet de poisson reconstitue (collectivite) | C8: recette | D8: ='Besoins'!$B$2*5 -> 5 | E8: lt
A9: 2 | B9: ↳ Eau (robinet - moy. France 2026) | C9: matiere | D9: ='Besoins'!$B$2*4.925 -> 4.925 | E9: lt
A10: 2 | B10: ↳ Fumet de Poisson déshydraté (Knorr Professional) | C10: matiere | D10: ='Besoins'!$B$2*0.075 -> 0.075 | E10: kg
A11: 1 | B11: ↳ Vin blanc sec de cuisson | C11: matiere | D11: ='Besoins'!$B$2*2 -> 2 | E11: lt
A12: 1 | B12: ↳ Fumet de poisson concentré | C12: matiere | D12: ='Besoins'!$B$2*0.1 -> 0.1 | E12: kg
A13: 1 | B13: ↳ Glace de crustaces/homard | C13: matiere | D13: ='Besoins'!$B$2*0.1 -> 0.1 | E13: kg
A14: 1 | B14: ↳ Tomates en dés surgelées IQF | C14: matiere | D14: ='Besoins'!$B$2*5 -> 5 | E14: kg
A15: 1 | B15: ↳ Concentré de tomate — boîte 4/4 (collectivité) | C15: recette | D15: ='Besoins'!$B$2*0.3 -> 0.3 | E15: kg
A16: 2 | B16: ↳ Concentré de tomate double | C16: matiere | D16: ='Besoins'!$B$2*0.3409090909 -> 0.340909 | E16: pc
A17: 1 | B17: ↳ Échalotte hachée IQF | C17: matiere | D17: ='Besoins'!$B$2*0.75 -> 0.75 | E17: kg
A18: 1 | B18: ↳ Estragon séché | C18: matiere | D18: ='Besoins'!$B$2*0.05 -> 0.05 | E18: kg
A19: 1 | B19: ↳ CERFEUIL (KG) (conv.) | C19: conversion | D19: ='Besoins'!$B$2*0.05 -> 0.05 | E19: kg
A20: 1 | B20: ↳ Sel fin de cuisine | C20: matiere | D20: ='Besoins'!$B$2*0.073 -> 0.073 | E20: kg
A21: 1 | B21: ↳ Poivre noir moulu | C21: matiere | D21: ='Besoins'!$B$2*0.007 -> 0.007 | E21: kg
A22: 1 | B22: ↳ Piment de Cayenne | C22: matiere | D22: ='Besoins'!$B$2*0.008 -> 0.008 | E22: kg
A23: 1 | B23: ↳ Crème fraîche liquide 15% MG allégée | C23: matiere | D23: ='Besoins'!$B$2*2 -> 2 | E23: lt
A24: 1 | B24: ↳ ROUX BLANC | C24: recette | D24: ='Besoins'!$B$2*1.44 -> 1.44 | E24: kg
A25: 2 | B25: ↳ Beurre de cuisine bloc 10 kg | C25: matiere | D25: ='Besoins'!$B$2*0.72 -> 0.72 | E25: kg
A26: 2 | B26: ↳ Farine de blé T55 | C26: matiere | D26: ='Besoins'!$B$2*0.72 -> 0.72 | E26: kg

Sheet Carte imprimable
A1: Fiche technique — TIMBALE DE FRUITS DE MER À L'AMÉRICAINE
A2: ="GRO_CDC_075 · GRO.POISSONS · référence : "&Besoins!B3&" "&Besoins!C3&" · multiplicateur réglable sur la feuille ""Besoins""" -> GRO_CDC_075 · GRO.POISSONS · référence : 100 pc · multiplicateur réglable sur la feuille
A4: TIMBALE DE FRUITS DE MER À L'AMÉRICAINE GRO_CDC_075
A5: 1. | B5: =Procedure!D2 -> Mise en place du poste de travail — Vérifiez les DLC, pesez les denrées, sélectionnez le matériel nécessaire. Désinfectez le matériel et le poste de travail suivant les protocoles.
A6: 2. | B6: =Procedure!D3 -> Préparations préliminaires — La veille, décongelez les fruits de mer en suivant la procédure. Réservez au froid dans 3 bacs GN 1/1 H 65 perforés doublés de bacs pleins. Déconditionnez la tomate concentrée et la tomate concassée en suivant la procédure. Réservez les dés de tomates surgelés dans un bac GN perforé. Réservez au froid. Réservez la tomate concentrée au froid dans une calotte filmée. Lavez, désinfectez et hachez au cutter le cerfeuil et l'estragon. Réservez au froid.
B7: Concentré de tomate — boîte 4/4 (collectivité) | C7: ='Besoins'!$B$2*0.3 -> 0.3 | D7: kg
B8: =Besoins!B12 -> Estragon séché | C8: =Besoins!E12 -> 0.05 | D8: =Besoins!F12 -> kg
B9: CERFEUIL (KG) (conv.) | C9: ='Besoins'!$B$2*0.05 -> 0.05 | D9: kg
A10: 3. | B10: =Procedure!D4 -> Confectionner les fumets — Dans un rondeau, réalisez 10 litres de fumet à partir des deux fonds déshydratés de crustacés et de poisson en se reportant aux recommandations du fabricant. Réservez au chaud en attente d'utilisation.
B11: Fumet de crustacés reconstitué (collectivité) | C11: ='Besoins'!$B$2*5 -> 5 | D11: lt
B12: Fumet de poisson reconstitue (collectivite) | C12: ='Besoins'!$B$2*5 -> 5 | D12: lt
A13: 4. | B13: =Procedure!D5 -> Confectionner le roux — Dans un rondeau, faites fondre le beurre. Ajoutez la farine. Mélangez au fouet. Cuisez à feu doux sans coloration. Le roux blanchit et devient mousseux au terme de sa cuisson. Laissez refroidir le roux dans le rondeau qui servira ultérieurement à la confection de la sauce.
B14: ROUX BLANC | C14: ='Besoins'!$B$2*1.44 -> 1.44 | D14: kg
A15: 5. | B15: =Procedure!D6 -> Réaliser la base de la sauce — Dans un rondeau, faites revenir au beurre les échalotes ciselées. Ajoutez les dés de tomates surgelés, la tomate concentrée, le cerfeuil et l'estragon. Mouillez avec le vin blanc. Laissez cuire et réduire afin d'obtenir la consistance d'une fondue. Réservez au chaud en attente d'utilisation.
B16: =Besoins!B8 -> Vin blanc sec de cuisson | C16: =Besoins!E8 -> 2 | D16: =Besoins!F8 -> lt
B17: =Besoins!B23 -> Tomates en dés surgelées IQF | C17: =Besoins!E23 -> 5 | D17: =Besoins!F23 -> kg
B18: Concentré de tomate — boîte 4/4 (collectivité) | C18: ='Besoins'!$B$2*0.3 -> 0.3 | D18: kg
B19: =Besoins!B22 -> Échalotte hachée IQF | C19: =Besoins!E22 -> 0.75 | D19: =Besoins!F22 -> kg
B20: =Besoins!B12 -> Estragon séché | C20: =Besoins!E12 -> 0.05 | D20: =Besoins!F12 -> kg
B21: CERFEUIL (KG) (conv.) | C21: ='Besoins'!$B$2*0.05 -> 0.05 | D21: kg
A22: 6. | B22: =Procedure!D7 -> Confectionner la sauce américaine — Versez les fumets bouillants sur le roux. Mélangez au fouet et portez à ébullition. Ajoutez la base tomatée. Salez, poivrez. Renforcez le goût avec les concentrés de poisson et de crustacés. Laissez cuire le velouté. Dépouillez la surface du velouté. Ajoutez au velouté la crème fraîche. Montez et émulsionnez la sauce au mixeur pour la rendre onctueuse. Rectifiez l'assaisonnement. Réservez au chaud en attente d'utilisation.
B23: =Besoins!B14 -> Fumet de poisson concentré | C23: =Besoins!E14 -> 0.1 | D23: =Besoins!F14 -> kg
B24: =Besoins!B15 -> Glace de crustaces/homard | C24: =Besoins!E15 -> 0.1 | D24: =Besoins!F15 -> kg
B25: =Besoins!B21 -> Sel fin de cuisine | C25: =Besoins!E21 -> 0.073 | D25: =Besoins!F21 -> kg
B26: =Besoins!B11 -> Poivre noir moulu | C26: =Besoins!E11 -> 0.007 | D26: =Besoins!F11 -> kg
B27: =Besoins!B10 -> Piment de Cayenne | C27: =Besoins!E10 -> 0.008 | D27: =Besoins!F10 -> kg
B28: =Besoins!B19 -> Crème fraîche liquide 15% MG allégée | C28: =Besoins!E19 -> 2 | D28: =Besoins!F19 -> lt
A29: 7. | B29: =Procedure!D8 -> Cuire les fruits de mer — Préchauffez le four sur la position vapeur. Étagez les 3 bacs GN de fruits de mer sur l'échelle de cuisson. Enfournez et passez à la vapeur durant 5 minutes. Laissez s'égoutter les bacs dans le four.
B30: =Besoins!B24 -> Cocktail de fruits de mer | C30: =Besoins!E24 -> 12 | D30: =Besoins!F24 -> kg
B31: =Besoins!B25 -> Moules décoquillées cuites | C31: =Besoins!E25 -> 4 | D31: =Besoins!F25 -> kg
A32: 8. | B32: =Procedure!D9 -> Dresser les fruits de mer en timbale — Répartissez les fruits de mer dans 5 bacs GN 1/1 H 65. Nappez et versez équitablement la sauce américaine sur les fruits de mer. Agitez d'un léger mouvement circulaire les bacs de façon à lier tous les éléments ensemble. Respectez la procédure de fin de cuisson. Filmez. Stockez en armoire chaude et maintenez à la température de +63°C en attente de consommation.
A33: 9. | B33: =Procedure!D10 -> Servir — Servez les fruits de mer à l'américaine à l'assiette accompagnés d'un riz pilaf.
A35: ↳ Fumet de crustacés reconstitué (collectivité) GRO-FUMET-CRUS
A36: 1. | B36: =Procedure!D11 -> Délayer la poudre dans l'eau froide en fouettant, puis porter à ébullition en remuant régulièrement.
B37: Eau (robinet - moy. France 2026) | C37: ='Besoins'!$B$2*4.875 -> 4.875 | D37: lt
B38: =Besoins!B16 -> Fumet de Crustacés déshydraté (Knorr Professional) | C38: =Besoins!E16 -> 0.125 | D38: =Besoins!F16 -> kg
A40: ↳ Fumet de poisson reconstitue (collectivite) GRO-FUMET-POISS
A41: 1. | B41: ="[DISSOUDRE] "&Procedure!D12 -> [DISSOUDRE] Délayer la poudre dans l'eau froide en fouettant, puis porter à ébullition en remuant régulièrement.
B42: Eau (robinet - moy. France 2026) | C42: ='Besoins'!$B$2*4.925 -> 4.925 | D42: lt
B43: =Besoins!B17 -> Fumet de Poisson déshydraté (Knorr Professional) | C43: =Besoins!E17 -> 0.075 | D43: =Besoins!F17 -> kg
...
