Workbook

Sheet Fiche
A1: Fiche technique
A2: Nom | B2: SAUCE MAYONNAISE AU MIEL
A3: Code | B3: GRO_CDC_203B
A4: Classe | B4: Sauces collectivité (GRO.SAUCES)
A5: Statut | B5: publie
A6: Verrouillée | B6: Oui — Corpus CDC — scission de GRO_CDC_203, Chapitre 11. Réinjecté Ch.14.
A7: Source bibliographique | B7: La Cuisine de Collectivité (BPI.CDC)
A8: Provenance
A10: Quantité de référence | B10: 4 lt
A11: Coût de revient H.T. (qt de référence) | B11: 20.40495
A12: Coût unitaire H.T. | B12: 5.1012375
A14: Quantité demandée pour cet export | B14: 4 lt
A15: Coût de revient total H.T. pour cette quantité | B15: 20.40495
A17: Export généré le | B17: 31/10/2026 06:04
B18: CUIS.web — Portage du CUIS Clipper de 1992 par Palika & Bernard Vandendaele (créateur du moteur récursif d'origine)

Sheet Besoins
A1: Besoins matière
A2: Multiplicateur souhaité | B2: 1
A3: Quantité de référence | B3: 4 | C3: lt
A4: Quantité obtenue | B4: =$B$2*B3 -> 4 | C4: =C3 -> lt
A6: Code | B6: Matière première | C6: Classe | D6: Base (×1, modifiable) | E6: Quantité | F6: Unité | G6: Coût H.T.
A7: RNME101411 | B7: Moutarde de Dijon seau 5kg | C7: Sauces et ketchup | D7: 0.09 | E7: =D7*$B$2 -> 0.09 | F7: kg | G7: =E7*3.71 -> 0.3339
A8: RNME101406 | B8: Vinaigre vin rouge 6° bouteille 1,5L | C8: Vinaigres et acides | D8: 0.2 | E8: =D8*$B$2 -> 0.2 | F8: u | G8: =E8*1.79 -> 0.358
A9: EPI-PIMENT-CAYE | B9: Piment de Cayenne | C9: Épices en poudre et graines | D9: 0.001 | E9: =D9*$B$2 -> 0.001 | F9: kg | G9: =E9*9.8 -> 0.0098
A10: EPI-POIVRE-NOIR | B10: Poivre noir moulu | C10: Épices en poudre et graines | D10: 0.006 | E10: =D10*$B$2 -> 0.006 | F10: kg | G10: =E10*12.5 -> 0.075
A11: RNME101405 | B11: Huile de tournesol bidon 5L | C11: Huiles végétales | D11: 0.6 | E11: =D11*$B$2 -> 0.6 | F11: u | G11: =E11*20.35 -> 12.21
A12: RNME101470 | B12: Miel liquide toutes fleurs pot 1kg | C12: Miels et produits de la ruche | D12: 0.4 | E12: =D12*$B$2 -> 0.4 | F12: kg | G12: =E12*13.47 -> 5.388
A13: 00000047 | B13: OEUF A3 (PRIX) | C13: Oeufs entiers | D13: 7.5 | E13: =D13*$B$2 -> 7.5 | F13: pc | G13: =E13*0.27 -> 2.025
A14: SEL-FIN | B14: Sel fin de cuisine | C14: Sels et condiments de base | D14: 0.015 | E14: =D14*$B$2 -> 0.015 | F14: kg | G14: =E14*0.35 -> 0.00525
F15: Total | G15: =SUM(G7:G14) -> 0

Sheet Composition
A1: Niveau | B1: Composant | C1: Type | D1: Quantité (pour 4 lt) | E1: Unité | F1: Classe
A2: 0 | B2: SAUCE MAYONNAISE AU MIEL | C2: recette | D2: 4 | E2: lt | F2: Sauces collectivité
A3: 1 | B3: ↳ SAUCE MAYONNAISE | C3: recette | D3: 3.7 | E3: lt | F3: Sauces collectivité
A4: 2 | B4: ↳ HUILE TOURNESOL (L) | C4: recette | D4: 3 | E4: lt | F4: Conversions diverses
A5: 3 | B5: ↳ Huile de tournesol bidon 5L | C5: matiere | D5: 0.6 | E5: u | F5: Huiles végétales
A6: 2 | B6: ↳ VINAIGRE VIN ROUGE (L) | C6: recette | D6: 0.3 | E6: lt | F6: Conversions diverses
A7: 3 | B7: ↳ Vinaigre vin rouge 6° bouteille 1,5L | C7: matiere | D7: 0.2 | E7: u | F7: Vinaigres et acides
A8: 2 | B8: ↳ Sel fin de cuisine | C8: matiere | D8: 0.015 | E8: kg | F8: Sels et condiments de base
A9: 2 | B9: ↳ Poivre noir moulu | C9: matiere | D9: 0.006 | E9: kg | F9: Épices en poudre et graines
A10: 2 | B10: ↳ Piment de Cayenne | C10: matiere | D10: 0.001 | E10: kg | F10: Épices en poudre et graines
A11: 2 | B11: ↳ Moutarde de Dijon seau 5kg | C11: matiere | D11: 0.09 | E11: kg | F11: Sauces et ketchup
A12: 2 | B12: ↳ JAUNE D'OEUF (P) | C12: recette | D12: 15 | E12: pc | F12: Conversions oeufs et ovoproduits
A13: 3 | B13: ↳ JAUNE D'OEUF (ML) | C13: recette | D13: 0.285 | E13: lt | F13: Conversions oeufs et ovoproduits
... A15: 1 | B15: ↳ Miel liquide toutes fleurs pot 1kg | C15: matiere | D15: 0.4 | E15: kg | F15: Miels et produits de la ruche

Sheet Procedure
A1: Recette | B1: # | C1: Verbe | D1: Étape | E1: Précision technique | F1: Durée
A2: SAUCE MAYONNAISE AU MIEL | B2: 1 | D2: Identique à la base (203), en incorporant le miel aux éléments du départ (étape 1).
A3: SAUCE MAYONNAISE | B3: 1 | D3: Dans la cuve du batteur, au fouet, mélanger la moutarde, le sel, le poivre, le poivre de Cayenne, les jaunes d'œufs pasteurisés et un quart du volume du vinaigre.
A4: SAUCE MAYONNAISE | B4: 2 | D4: En deuxième vitesse, incorporer l'huile en filet régulier.
A5: SAUCE MAYONNAISE | B5: 3 | D5: En fin de montage de la mayonnaise, ajouter le reste du vinaigre.
A6: SAUCE MAYONNAISE | B6: 4 | D6: En troisième vitesse, serrer la mayonnaise pendant 2 minutes.
A7: SAUCE MAYONNAISE | B7: 5 | D7: Vérifier l'assaisonnement et la consistance de la sauce.

Sheet Carte imprimable
A1: Fiche technique — SAUCE MAYONNAISE AU MIEL
A2: ="GRO_CDC_203B · GRO.SAUCES · référence : "&Besoins!B3&" "&Besoins!C3&" · multiplicateur réglable sur la feuille ""Besoins""" -> GRO_CDC_203B · GRO.SAUCES · référence : 4 lt · multiplicateur réglable sur la feuille
A4: SAUCE MAYONNAISE AU MIEL GRO_CDC_203B
A5: 1. | B5: =Procedure!D2 -> Identique à la base (203), en incorporant le miel aux éléments du départ (étape 1).
B6: SAUCE MAYONNAISE | C6: ='Besoins'!$B$2*3.7 -> 3.7 | D6: lt
B7: =Besoins!B12 -> Miel liquide toutes fleurs pot 1kg | C7: =Besoins!E12 -> 0.4 | D7: =Besoins!F12 -> kg
A9: ↳ SAUCE MAYONNAISE GRO_CDC_203
A10: 1. | B10: =Procedure!D3 -> Dans la cuve du batteur, au fouet, mélanger la moutarde, le sel, le poivre, le poivre de Cayenne, les jaunes d'œufs pasteurisés et un quart du volume du vinaigre.
B11: =Besoins!B14 -> Sel fin de cuisine | C11: =Besoins!E14 -> 0.015 | D11: =Besoins!F14 -> kg
B12: =Besoins!B10 -> Poivre noir moulu | C12: =Besoins!E10 -> 0.006 | D12: =Besoins!F10 -> kg
B13: =Besoins!B9 -> Piment de Cayenne | C13: =Besoins!E9 -> 0.001 | D13: =Besoins!F9 -> kg
B14: =Besoins!B7 -> Moutarde de Dijon seau 5kg | C14: =Besoins!E7 -> 0.09 | D14: =Besoins!F7 -> kg
B15: JAUNE D'OEUF (P) (conv.) | C15: ='Besoins'!$B$2*15 -> 15 | D15: pc
B16: VINAIGRE VIN ROUGE (L) (conv.) | C16: ='Besoins'!$B$2*0.3 -> 0.3 | D16: lt
A17: 2. | B17: =Procedure!D4 -> En deuxième vitesse, incorporer l'huile en filet régulier.
B18: HUILE TOURNESOL (L) (conv.) | C18: ='Besoins'!$B$2*3 -> 3 | D18: lt
A19: 3. | B19: =Procedure!D5 -> En fin de montage de la mayonnaise, ajouter le reste du vinaigre.
A20: 4. | B20: =Procedure!D6 -> En troisième vitesse, serrer la mayonnaise pendant 2 minutes.
A21: 5. | B21: =Procedure!D7 -> Vérifier l'assaisonnement et la consistance de la sauce.
A23: CUIS.web — Portage du CUIS Clipper de 1992 par Palika & Bernard Vandendaele (créateur du moteur récursif d'origine)
