Workbook

Sheet Fiche
A1: Fiche technique
A2: Nom | B2: CONSOMMÉ BLANC SIMPLE OU MARMITE
A3: Code | B3: GRO_CDR_B269
A4: Classe | B4: Fonds et bouillons de base (CUI.FONDS)
A5: Statut | B5: publie
A6: Verrouillée | B6: Oui — Corpus CDR (Cuisine de Référence 1993) audité et corrigé — verrouillé Chapitre 5
A7: Source bibliographique | B7: La Cuisine de Référence (BPI.CDR2002)
A8: Provenance
A10: Quantité de référence | B10: 1 lt
A11: Coût de revient H.T. (qt de référence) | B11: 9.467675
A12: Coût unitaire H.T. | B12: 9.467675
A14: Quantité demandée pour cet export | B14: 1 lt
A15: Coût de revient total H.T. pour cette quantité | B15: 9.467675
A17: Export généré le | B17: 30/10/2026 17:50
B18: CUIS.web — Portage du CUIS Clipper de 1992 par Palika & Bernard Vandendaele (créateur du moteur récursif d'origine)

Sheet Besoins
A1: Besoins matière
A2: Multiplicateur souhaité | B2: 1
A3: Quantité de référence | B3: 1 | C3: lt
A4: Quantité obtenue | B4: =$B$2*B3 -> 1 | C4: =C3 -> lt
A6: Code | B6: Matière première | C6: Classe | D6: Base (×1, modifiable) | E6: Quantité | F6: Unité | G6: Coût H.T.
A7: EAU | B7: Eau (robinet - moy. France 2026) | C7: Matières premières | D7: 1.75 | E7: =D7*$B$2 -> 1.75 | F7: lt | G7: =E7*0.0043 -> 0.007525
A8: EPI-CLOU-GIROFLE | B8: Clous de girofle | C8: Épices en poudre et graines | D8: 5e-05 | E8: =D8*$B$2 -> 5e-05 | F8: kg | G8: =E8*25 -> 0.00125
A9: EPI-POIVRE-GRAIN | B9: Poivre noir en grains entiers | C9: Épices en poudre et graines | D9: 0.001 | E9: =D9*$B$2 -> 0.001 | F9: kg | G9: =E9*12 -> 0.012
A10: HER-LAURIER | B10: Laurier sauce feuilles | C10: Herbes aromatiques séchées | D10: 0.001 | E10: =D10*$B$2 -> 0.001 | F10: kg | G10: =E10*9.8 -> 0.0098
A11: HER-THYM | B11: Thym séché | C11: Herbes aromatiques séchées | D11: 0.001 | E11: =D11*$B$2 -> 0.001 | F11: kg | G11: =E11*8.5 -> 0.0085
A12: RNM17710123 | B12: AIL frais France cat.I 60-80mm | C12: Légumes | D12: 0.005 | E12: =D12*$B$2 -> 0.005 | F12: kg | G12: =E12*6.5 -> 0.0325
A13: RNM0420123 | B13: CAROTTE France extra colis 12kg | C13: Légumes | D13: 0.15 | E13: =D13*$B$2 -> 0.15 | F13: kg | G13: =E13*1.1 -> 0.165
A14: RNM0400123 | B14: CÉLERI-BRANCHE vert France cat.I | C14: Légumes | D14: 0.08 | E14: =D14*$B$2 -> 0.08 | F14: kg | G14: =E14*1.8 -> 0.144
A15: RNM27820123 | B15: OIGNON jaune France cat.I 60-80mm | C15: Légumes | D15: 0.15 | E15: =D15*$B$2 -> 0.15 | F15: kg | G15: =E15*0.4 -> 0.06
A16: RNM6520160 | B16: PERSIL simple France botte | C16: Légumes | D16: 0.2 | E16: =D16*$B$2 -> 0.2 | F16: bte | G16: =E16*0.45 -> 0.09
A17: RNM0200123 | B17: POIREAU France cat.I | C17: Légumes | D17: 0.15 | E17: =D17*$B$2 -> 0.15 | F17: kg | G17: =E17*0.9 -> 0.135
A18: SEL-GROS | B18: Gros sel de mer | C18: Sels et condiments de base | D18: 0.005 | E18: =D18*$B$2 -> 0.005 | F18: kg | G18: =E18*0.42 -> 0.0021
A19: 00002610 | B19: Gîte-gîte (bœuf) | C19: Bœuf | D19: 0.2 | E19: =D19*$B$2 -> 0.2 | F19: kg | G19: =E19*10 -> 2
A20: 00002609 | B20: Jumeau (bœuf) | C20: Bœuf | D20: 0.2 | E20: =D20*$B$2 -> 0.2 | F20: kg | G20: =E20*12 -> 2.4
A21: 00002611 | B21: Macreuse à pot-au-feu | C21: Bœuf | D21: 0.2 | E21: =D21*$B$2 -> 0.2 | F21: kg | G21: =E21*11 -> 2.2
A22: 00002613 | B22: Os de bœuf (moelle) | C22: Bœuf | D22: 0.2 | E22: =D22*$B$2 -> 0.2 | F22: kg | G22: =E22*3 -> 0.6
A23: 00002612 | B23: Plat de côtes (bœuf) | C23: Bœuf | D23: 0.2 | E23: =D23*$B$2 -> 0.2 | F23: kg | G23: =E23*8 -> 1.6
F24: Total | G24: =SUM(G7:G23) -> 0

Sheet Composition
A1: Niveau | B1: Composant | C1: Type | D1: Quantité (pour 1 lt) | E1: Unité | F1: Classe
A2: 0 | B2: CONSOMMÉ BLANC SIMPLE OU MARMITE | C2: recette | D2: 1 | E2: lt | F2: Fonds et bouillons de base
A3: 1 | B3: ↳ Jumeau (bœuf) | C3: matiere | D3: 0.2 | E3: kg | F3: Bœuf
A4: 1 | B4: ↳ Gîte-gîte (bœuf) | C4: matiere | D4: 0.2 | E4: kg | F4: Bœuf
A5: 1 | B5: ↳ Macreuse à pot-au-feu | C5: matiere | D5: 0.2 | E5: kg | F5: Bœuf
A6: 1 | B6: ↳ Plat de côtes (bœuf) | C6: matiere | D6: 0.2 | E6: kg | F6: Bœuf
A7: 1 | B7: ↳ Os de bœuf (moelle) | C7: matiere | D7: 0.2 | E7: kg | F7: Bœuf
A8: 1 | B8: ↳ CAROTTE France extra colis 12kg | C8: matiere | D8: 0.15 | E8: kg | F8: Légumes
A9: 1 | B9: ↳ OIGNON jaune France cat.I 60-80mm | C9: matiere | D9: 0.15 | E9: kg | F9: Légumes
A10: 1 | B10: ↳ POIREAU France cat.I | C10: matiere | D10: 0.15 | E10: kg | F10: Légumes
A11: 1 | B11: ↳ CÉLERI-BRANCHE vert France cat.I | C11: matiere | D11: 0.08 | E11: kg | F11: Légumes
A12: 1 | B12: ↳ AIL frais France cat.I 60-80mm | C12: matiere | D12: 0.005 | E12: kg | F12: Légumes
A13: 1 | B13: ↳ BOUQUET GARNI | C13: recette | D13: 1 | E13: pc | F13: Préparations de base cuisine
... A22: 2 | B22: ↳ Clous de girofle | C22: matiere | D22: 0 | E22: kg | F22: Épices en poudre et graines

Sheet Procedure
A1: Recette | B1: # | C1: Verbe | D1: Étape | E1: Précision technique | F1: Durée
A2: CONSOMMÉ BLANC SIMPLE OU MARMITE | B2: 1 | C2: CONCASSER | D2: Mise en place du poste de travail — Réunir les denrées, le matériel de préparation et de cuisson. Contrôler la fraîcheur et la qualité des produits. | E2: Concasser les os — récupérer et réserver la moelle — réunir dans une grande marmite — couvrir d'eau froide — porter à ébullition — écumer — rafraîchir | F2: 4 min (cuisson)
A3: CONSOMMÉ BLANC SIMPLE OU MARMITE | B3: 2 | C3: MARQUER | D3: Préparer les ingrédients de base — Parer, dégraisser si nécessaire et ficeler les viandes ; concasser les os ; récupérer la moelle et la réserver dans une calotte d'eau glacée. | E3: Replacer la viande et les os dans la marmite soigneusement rincée — mouiller amplement à l'eau froide — saler modérément — porter à ébullition
A4: CONSOMMÉ BLANC SIMPLE OU MARMITE | B4: 3 | C4: ÉPLUCHER | D4: Blanchir la viande et les os 3 à 4 minutes — Les couvrir d'eau froide, porter à ébullition, écumer, rafraîchir à l'eau courante. | E4: Éplucher et laver — tronçonner les carottes si trop grosses — couper les oignons et les faire colorer sur la plaque — confectionner le bouquet garni
A5: CONSOMMÉ BLANC SIMPLE OU MARMITE | B5: 4 | C5: ÉCUMER | D5: Marquer la marmite en cuisson — Replacer viande et os dans la marmite rincée ; recouvrir amplement d'eau froide ; saler au gros sel ; porter à ébullition ; écumer et dégraisser soigneusement. | E5: Opération répétée fréquemment
A6: CONSOMMÉ BLANC SIMPLE OU MARMITE | B6: 5 | C6: MOUILLER | D6: Préparer la garniture aromatique — Éplucher et laver les légumes ; tronçonner les grosses carottes ; couper les oignons transversalement et les colorer sur la plaque du fourneau (couleur ambrée), en clouter un d'un clou de girofle côté talon ; confectionner le bouquet garni (persil, thym, laurier, poireaux, céleri). L'ajouter au bout d'une heure de cuisson.
A7: CONSOMMÉ BLANC SIMPLE OU MARMITE | B7: 6 | C7: PASSER | D7: Cuire 3 à 4 heures à découvert à très faible ébullition — Écumer et dégraisser souvent (une petite louche d'eau froide fait remonter la graisse) ; une ébullition trop vive trouble la marmite. | E7: Ne pas remuer le fond de la marmite — ne pas le troubler
A8: CONSOMMÉ BLANC SIMPLE OU MARMITE | B8: 7 | C8: DÉGRAISSER | D8: S'assurer de la cuisson ; débarrasser la viande et la garniture (réserver la viande pour une autre utilisation) ; passer délicatement au chinois étamine dans un bahut inox avec quelques grains de poivre écrasés, sans remuer le fond ; laisser reposer, dégraisser, refroidir rapidement et réserver à + 3 °C maximum. | E8: Effleurer la surface du consommé en le roulant sur les "yeux"
A9: BOUQUET GARNI | B9: 1 | C9: TRIER | D9: Mise en place — Peser et mesurer toutes les denrées, vérifier leur fraîcheur.
A10: BOUQUET GARNI | B10: 2 | C10: TRIER | D10: Préparer les aromates — Trier et laver les queues de persil (jamais de tiges restées dans l'eau ou entassées trop longtemps en chambre froide : elles fermentent). Trier, laver et sécher doucement un thym bien parfumé ; laver, sécher et effeuiller le laurier ; garder thym et laurier à l'abri de la poussière.
A11: BOUQUET GARNI | B11: 3 | C11: FOURRER | D11: Monter le bouquet — Glisser une brindille de thym et une petite feuille de laurier au milieu des tiges de persil, en proportion du liquide à parfumer. Ficeler serré : deux ou trois tours en haut et en bas, puis un nœud au milieu pour que le bouquet ne s'ouvre pas à la cuisson. Parer légèrement les deux bouts.

Sheet Carte imprimable
A1: Fiche technique — CONSOMMÉ BLANC SIMPLE OU MARMITE
A2: ="GRO_CDR_B269 · CUI.FONDS · référence : "&Besoins!B3&" "&Besoins!C3&" · multiplicateur réglable sur la feuille ""Besoins""" -> GRO_CDR_B269 · CUI.FONDS · référence : 1 lt · multiplicateur réglable sur la feuille
A4: CONSOMMÉ BLANC SIMPLE OU MARMITE GRO_CDR_B269
A5: 1. | B5: ="[CONCASSER] "&Procedure!D2 -> [CONCASSER] Mise en place du poste de travail — Réunir les denrées, le matériel de préparation et de cuisson. Contrôler la fraîcheur et la qualité des produits.
B6: ="ℹ "&Procedure!E2 -> ℹ
A7: 2. | B7: ="[MARQUER] "&Procedure!D3 -> [MARQUER] Préparer les ingrédients de base — Parer, dégraisser si nécessaire et ficeler les viandes ; concasser les os ; récupérer la moelle et la réserver dans une calotte d'eau glacée.
B8: =Besoins!B20 -> Jumeau (bœuf) | C8: =Besoins!E20 -> 0.2 | D8: =Besoins!F20 -> kg
B9: =Besoins!B19 -> Gîte-gîte (bœuf) | C9: =Besoins!E19 -> 0.2 | D9: =Besoins!F19 -> kg
B10: =Besoins!B21 -> Macreuse à pot-au-feu | C10: =Besoins!E21 -> 0.2 | D10: =Besoins!F21 -> kg
B11: =Besoins!B23 -> Plat de côtes (bœuf) | C11: =Besoins!E23 -> 0.2 | D11: =Besoins!F23 -> kg
B12: =Besoins!B22 -> Os de bœuf (moelle) | C12: =Besoins!E22 -> 0.2 | D12: =Besoins!F22 -> kg
B13: ="ℹ "&Procedure!E3 -> ℹ
A14: 3. | B14: ="[ÉPLUCHER] "&Procedure!D4 -> [ÉPLUCHER] Blanchir la viande et les os 3 à 4 minutes — Les couvrir d'eau froide, porter à ébullition, écumer, rafraîchir à l'eau courante.
B15: ="ℹ "&Procedure!E4 -> ℹ
A16: 4. | B16: ="[ÉCUMER] "&Procedure!D5 -> [ÉCUMER] Marquer la marmite en cuisson — Replacer viande et os dans la marmite rincée ; recouvrir amplement d'eau froide ; saler au gros sel ; porter à ébullition ; écumer et dégraisser soigneusement.
B17: =Besoins!B7 -> Eau (robinet - moy. France 2026) | C17: =Besoins!E7 -> 1.75 | D17: =Besoins!F7 -> lt
B18: =Besoins!B18 -> Gros sel de mer | C18: =Besoins!E18 -> 0.005 | D18: =Besoins!F18 -> kg
B19: ="ℹ "&Procedure!E5 -> ℹ
A20: 5. | B20: ="[MOUILLER] "&Procedure!D6 -> [MOUILLER] Préparer la garniture aromatique — Éplucher et laver les légumes ; tronçonner les grosses carottes ; couper les oignons transversalement et les colorer sur la plaque du fourneau (couleur ambrée), en clouter un d'un clou de girofle côté talon ; confectionner le bouquet garni (persil, thym, laurier, poireaux, céleri). L'ajouter au bout d'une heure de cuisson.
B21: =Besoins!B13 -> CAROTTE France extra colis 12kg | C21: =Besoins!E13 -> 0.15 | D21: =Besoins!F13 -> kg
B22: =Besoins!B15 -> OIGNON jaune France cat.I 60-80mm | C22: =Besoins!E15 -> 0.15 | D22: =Besoins!F15 -> kg
B23: =Besoins!B17 -> POIREAU France cat.I | C23: =Besoins!E17 -> 0.15 | D23: =Besoins!F17 -> kg
B24: =Besoins!B14 -> CÉLERI-BRANCHE vert France cat.I | C24: =Besoins!E14 -> 0.08 | D24: =Besoins!F14 -> kg
B25: =Besoins!B12 -> AIL frais France cat.I 60-80mm | C25: =Besoins!E12 -> 0.005 | D25: =Besoins!F12 -> kg
B26: BOUQUET GARNI | C26: ='Besoins'!$B$2*1 -> 1 | D26: pc
B27: Clous de girofle (par 20) (conv.) | C27: ='Besoins'!$B$2*1 -> 1 | D27: pc
A28: 6. | B28: ="[PASSER] "&Procedure!D7 -> [PASSER] Cuire 3 à 4 heures à découvert à très faible ébullition — Écumer et dégraisser souvent (une petite louche d'eau froide fait remonter la graisse) ; une ébullition trop vive trouble la marmite.
B29: ="ℹ "&Procedure!E7 -> ℹ
A30: 7. | B30: ="[DÉGRAISSER] "&Procedure!D8 -> [DÉGRAISSER] S'assurer de la cuisson ; débarrasser la viande et la garniture (réserver la viande pour une autre utilisation) ; passer délicatement au chinois étamine dans un bahut inox avec quelques grains de poivre écrasés, sans remuer le fond ; laisser reposer, dégraisser, refroidir rapidement et réserver à + 3 °C maximum.
B31: =Besoins!B9 -> Poivre noir en grains entiers | C31: =Besoins!E9 -> 0.001 | D31: =Besoins!F9 -> kg
B32: ="ℹ "&Procedure!E8 -> ℹ
A34: ↳ BOUQUET GARNI BPI-CUI-BGT-GRN
A35: 1. | B35: ="[TRIER] "&Procedure!D9 -> [TRIER] Mise en place — Peser et mesurer toutes les denrées, vérifier leur fraîcheur.
A36: 2. | B36: ="[TRIER] "&Procedure!D10 -> [TRIER] Préparer les aromates — Trier et laver les queues de persil (jamais de tiges restées dans l'eau ou entassées trop longtemps en chambre froide : elles fermentent). Trier, laver et sécher doucement un thym bien parfumé ; laver, sécher et effeuiller le laurier ; garder thym et laurier à l'abri de la poussière.
A37: 3. | B37: ="[FOURRER] "&Procedure!D11 -> [FOURRER] Monter le bouquet — Glisser une brindille de thym et une petite feuille de laurier au milieu des tiges de persil, en proportion du liquide à parfumer. Ficeler serré : deux ou trois tours en haut et en bas, puis un nœud au milieu pour que le bouquet ne s'ouvre pas à la cuisson. Parer légèrement les deux bouts.
B38: PERSIL PLAT (KG) (conv.) | C38: ='Besoins'!$B$2*0.02 -> 0.02 | D38: kg
B39: =Besoins!B11 -> Thym séché | C39: =Besoins!E11 -> 0.001 | D39: =Besoins!F11 -> kg
B40: =Besoins!B10 -> Laurier sauce feuilles | C40: =Besoins!E10 -> 0.001 | D40: =Besoins!F10 -> kg
A42: CUIS.web — Portage du CUIS Clipper de 1992 par Palika & Bernard Vandendaele (créateur du moteur récursif d'origine)
