Workbook

Sheet Besoins
A1: Besoins matière
A2: Multiplicateur souhaité | B2: 1
A3: Quantité de référence | B3: 30 | C3: pc
A4: Quantité obtenue | B4: =$B$2*B3 -> 30 | C4: =C3 -> pc
A6: Code | B6: Matière première | C6: Classe | D6: Base (×1, modifiable) | E6: Quantité | F6: Unité | G6: Coût H.T.
A7: 00000011 | B7: CHOCOLAT 835 | C7: Chocolats de couverture | D7: 1.04 | E7: =D7*$B$2 -> 1.04 | F7: kg | G7: =E7*3.1247 -> 3.249688
A8: 00000051 | B8: LAIT | C8: Produits laitiers et œufs | D8: 0.56 | E8: =D8*$B$2 -> 0.56 | F8: lt | G8: =E8*0.5999 -> 0.335944
A9: 00000048 | B9: BEURRE | C9: Beurres et margarines | D9: 0.24 | E9: =D9*$B$2 -> 0.24 | F9: kg | G9: =E9*3.9514 -> 0.948336
A10: 00000049 | B10: CREME FRAOECHE | C10: Crèmes fraîches et laitières | D10: 1.990741 | E10: =D10*$B$2 -> 1.990741 | F10: lt | G10: =E10*2.5334996701 -> 5.043542
A11: 00000032 | B11: MIEL LIQUIDE (MELI) | C11: Miels et produits de la ruche | D11: 0.16 | E11: =D11*$B$2 -> 0.16 | F11: kg | G11: =E11*4.0406 -> 0.646496
A12: 00000047 | B12: OEUF A3 (PRIX) | C12: Oeufs entiers | D12: 277.77778 | E12: =D12*$B$2 -> 277.77778 | F12: pc | G12: =E12*0.2699999998 -> 75
A13: 00000003 | B13: SUCRE (S2) | C13: Sucres et édulcorants | D13: 40.159259 | E13: =D13*$B$2 -> 40.159259 | F13: kg | G13: =E13*0.9500000061 -> 38.151296
F14: Total | G14: =SUM(G7:G13) -> 0

Sheet Procedure
A1: Recette | B1: # | C1: Verbe | D1: Étape | E1: Précision technique | F1: Durée
A2: GANACHé | D2: 📜 Recette historique (Base Clipper DOS, 1992) — premiers pas de Palika en gestion informatique des recettes, largement inspirés de son cahier manuscrit personnel de 1985. À cette époque, la procédure n'était pas rédigée séparément : l'ORDRE des ingrédients dans la composition ci-dessous faisait office de déroulé de fabrication. Le cahier de 1985 original (en cours de numérisation) contient les procédures complètes, rédigées dans le style des fiches techniques actuelles.
A3: MERINGUE EN COQUILLE | D3: 📜 Recette historique (Base Clipper DOS, 1992) — premiers pas de Palika en gestion informatique des recettes, largement inspirés de son cahier manuscrit personnel de 1985. À cette époque, la procédure n'était pas rédigée séparément : l'ORDRE des ingrédients dans la composition ci-dessous faisait office de déroulé de fabrication. Le cahier de 1985 original (en cours de numérisation) contient les procédures complètes, rédigées dans le style des fiches techniques actuelles.
A4: MERINGUE FRANÇAISE | D4: 📜 Recette historique (Base Clipper DOS, 1992) — premiers pas de Palika en gestion informatique des recettes, largement inspirés de son cahier manuscrit personnel de 1985. À cette époque, la procédure n'était pas rédigée séparément : l'ORDRE des ingrédients dans la composition ci-dessous faisait office de déroulé de fabrication. Le cahier de 1985 original (en cours de numérisation) contient les procédures complètes, rédigées dans le style des fiches techniques actuelles.
A5: CRÈME CHANTILLY | D5: 📜 Recette historique (Base Clipper DOS, 1992) — premiers pas de Palika en gestion informatique des recettes, largement inspirés de son cahier manuscrit personnel de 1985. À cette époque, la procédure n'était pas rédigée séparément : l'ORDRE des ingrédients dans la composition ci-dessous faisait office de déroulé de fabrication. Le cahier de 1985 original (en cours de numérisation) contient les procédures complètes, rédigées dans le style des fiches techniques actuelles.
A6: GANACHE | D6: 📜 Recette historique (Base Clipper DOS, 1992) — premiers pas de Palika en gestion informatique des recettes, largement inspirés de son cahier manuscrit personnel de 1985. À cette époque, la procédure n'était pas rédigée séparément : l'ORDRE des ingrédients dans la composition ci-dessous faisait office de déroulé de fabrication. Le cahier de 1985 original (en cours de numérisation) contient les procédures complètes, rédigées dans le style des fiches techniques actuelles.

Sheet Arborescence FT
A1: Niveau | B1: Composant | C1: Type | D1: Quantité (× multiplicateur, voir feuille Besoins) | E1: Unité
A2: 0 | B2: GANACHé | C2: recette | D2: ='Besoins'!$B$2*30 -> 30 | E2: pc
A3: 1 | B3: ↳ MERINGUE EN COQUILLE | C3: recette | D3: ='Besoins'!$B$2*60 -> 60 | E3: pc
A4: 2 | B4: ↳ MERINGUE FRANÇAISE | C4: recette | D4: ='Besoins'!$B$2*60 -> 60 | E4: kg
A5: 3 | B5: ↳ BLANC D'OEUF (P) (conv.) | C5: conversion | D5: ='Besoins'!$B$2*555.5555555556 -> 555.55556 | E5: pc
A6: 3 | B6: ↳ SUCRE (S2) | C6: matiere | D6: ='Besoins'!$B$2*40 -> 40 | E6: kg
A7: 1 | B7: ↳ CRÈME CHANTILLY | C7: recette | D7: ='Besoins'!$B$2*2.15 -> 2.15 | E7: kg
A8: 2 | B8: ↳ CREME FRAOECHE | C8: matiere | D8: ='Besoins'!$B$2*1.9907407407 -> 1.990741 | E8: lt
A9: 2 | B9: ↳ SUCRE (S2) | C9: matiere | D9: ='Besoins'!$B$2*0.1592592593 -> 0.159259 | E9: kg
A10: 1 | B10: ↳ GANACHE | C10: recette | D10: ='Besoins'!$B$2*2 -> 2 | E10: kg
A11: 2 | B11: ↳ CHOCOLAT 835 | C11: matiere | D11: ='Besoins'!$B$2*1.04 -> 1.04 | E11: kg
A12: 2 | B12: ↳ LAIT | C12: matiere | D12: ='Besoins'!$B$2*0.56 -> 0.56 | E12: lt
A13: 2 | B13: ↳ MIEL LIQUIDE (MELI) | C13: matiere | D13: ='Besoins'!$B$2*0.16 -> 0.16 | E13: kg
A14: 2 | B14: ↳ BEURRE | C14: matiere | D14: ='Besoins'!$B$2*0.24 -> 0.24 | E14: kg

Sheet Carte imprimable
A1: Fiche technique — GANACHé
A2: ="00000704 · PAT.INDIVIDUELS · référence : "&Besoins!B3&" "&Besoins!C3&" · multiplicateur réglable sur la feuille ""Besoins""" -> 00000704 · PAT.INDIVIDUELS · référence : 30 pc · multiplicateur réglable sur la feuille
A4: GANACHé 00000704
B5: 📜 Recette historique (Base Clipper DOS, 1992) — premiers pas de Palika en gestion informatique des recettes, largement inspirés de son cahier manuscrit personnel de 1985. À cette époque, la procédure n'était pas rédigée séparément : l'ORDRE des ingrédients dans la composition ci-dessous faisait office de déroulé de fabrication. Le cahier de 1985 original (en cours de numérisation) contient les procédures complètes, rédigées dans le style des fiches techniques actuelles.
A7: ↳ MERINGUE EN COQUILLE 00000290
B8: 📜 Recette historique (Base Clipper DOS, 1992) — premiers pas de Palika en gestion informatique des recettes, largement inspirés de son cahier manuscrit personnel de 1985. À cette époque, la procédure n'était pas rédigée séparément : l'ORDRE des ingrédients dans la composition ci-dessous faisait office de déroulé de fabrication. Le cahier de 1985 original (en cours de numérisation) contient les procédures complètes, rédigées dans le style des fiches techniques actuelles.
A10: ↳ MERINGUE FRANÇAISE 00000289
B11: 📜 Recette historique (Base Clipper DOS, 1992) — premiers pas de Palika en gestion informatique des recettes, largement inspirés de son cahier manuscrit personnel de 1985. À cette époque, la procédure n'était pas rédigée séparément : l'ORDRE des ingrédients dans la composition ci-dessous faisait office de déroulé de fabrication. Le cahier de 1985 original (en cours de numérisation) contient les procédures complètes, rédigées dans le style des fiches techniques actuelles.
A13: ↳ CRÈME CHANTILLY 00000147
B14: 📜 Recette historique (Base Clipper DOS, 1992) — premiers pas de Palika en gestion informatique des recettes, largement inspirés de son cahier manuscrit personnel de 1985. À cette époque, la procédure n'était pas rédigée séparément : l'ORDRE des ingrédients dans la composition ci-dessous faisait office de déroulé de fabrication. Le cahier de 1985 original (en cours de numérisation) contient les procédures complètes, rédigées dans le style des fiches techniques actuelles.
A16: ↳ GANACHE 00000066
B17: 📜 Recette historique (Base Clipper DOS, 1992) — premiers pas de Palika en gestion informatique des recettes, largement inspirés de son cahier manuscrit personnel de 1985. À cette époque, la procédure n'était pas rédigée séparément : l'ORDRE des ingrédients dans la composition ci-dessous faisait office de déroulé de fabrication. Le cahier de 1985 original (en cours de numérisation) contient les procédures complètes, rédigées dans le style des fiches techniques actuelles.
A19: CUIS.web — Portage du CUIS Clipper de 1992 par Palika & Bernard Vandendaele (créateur du moteur récursif d'origine)
